BEGIN:VCALENDAR
VERSION:2.0
PRODID:-//FPF Financement Participatif France - financeparticipatif.org - ECPv6.15.5//NONSGML v1.0//EN
CALSCALE:GREGORIAN
METHOD:PUBLISH
X-ORIGINAL-URL:https://financeparticipative.org
X-WR-CALDESC:Évènements pour FPF Financement Participatif France - financeparticipatif.org
REFRESH-INTERVAL;VALUE=DURATION:PT1H
X-Robots-Tag:noindex
X-PUBLISHED-TTL:PT1H
BEGIN:VTIMEZONE
TZID:Europe/Paris
BEGIN:DAYLIGHT
TZOFFSETFROM:+0100
TZOFFSETTO:+0200
TZNAME:CEST
DTSTART:20170326T010000
END:DAYLIGHT
BEGIN:STANDARD
TZOFFSETFROM:+0200
TZOFFSETTO:+0100
TZNAME:CET
DTSTART:20171029T010000
END:STANDARD
END:VTIMEZONE
BEGIN:VEVENT
DTSTART;TZID=Europe/Paris:20170328T130000
DTEND;TZID=Europe/Paris:20170328T130000
DTSTAMP:20260421T034457
CREATED:20170317T114548Z
LAST-MODIFIED:20170317T114752Z
UID:6493-1490706000-1490706000@financeparticipative.org
SUMMARY:Fintech Revolution "Here to stay"
DESCRIPTION:Après le succès de la première édition de Fintech Revolution\, l’événement de France Fintech revient cette année sous la bannière “Here to stay” et aura pour but de démontrer que les Fintech prennent désormais une place à part entière dans l’écosystème financier en s’y intégrant de façon durable. \nFrance Fintech s’attache à promouvoir l’excellence de la filière fintech. L’événement accueillera plus de 1000 participants (entrepreneurs\, VC\, journalistes\, médias\, régulateurs\, influenceurs\, personnalités politiques…). \nDes intervenants comme Alexa Von Tobel (CEO de LearnVest et auteur best-seller au New York Times)\, Ron Suber (CEO de Prosper)\, Phin Upham (Managing Partner de Thiel Capital)\, Nilan Peiris (VP Growth chez TransferWise)\, Joe Ziemer (VP Communication de Betterment) sont attendus. Mais aussi Tidjane Deme (Partner de Partech Ventures) et Kabirou Mbodje (CEO at Groupe Wari) qui livreront leur analyse quant au développement fulgurant de la Fintech en Afrique. \nFintech Revolution 2017 accueillera également Vilius Šapoka (Ministre des Finances de la Lituanie) qui développe pleinement la Fintech à l’échelle de la Lituanie ou encore Sadiq Khan (Maire de Londres) et Axelle Lemaire (Ancienne Secrétaire d’Etat chargée du numérique et de l’innovation) qui présenteront leur appréciation et échangeront sur les relations européennes post Brexit. \nIls viendront démontrer l’entrée progressive de la Fintech dans l’âge de raison autour de conférences plénières. \nTout au long de l’après-midi\, vous pourrez également participer à des ateliers\, des sessions de networking et rencontrer les plus belles Fintech françaises. \nPrenez part à la révolution Fintech et rendez-vous le 28 mars 2017 ! \nInscriptions
URL:https://financeparticipative.org/calendrier-de-la-finance-participative/fintech-revolution-here-to-stay/
LOCATION:La Gaîté Lyrique\, 3 bis rue Papin \, Paris\, 75003\, France Métropolitaine
CATEGORIES:Fintech
ATTACH;FMTTYPE=image/gif:https://financeparticipative.org/wp-content/uploads/2017/03/Copie-de-FFT_GIF_infinity_ani-2_sliced-e1495819427296.gif
END:VEVENT
END:VCALENDAR