BEGIN:VCALENDAR
VERSION:2.0
PRODID:-//FPF Financement Participatif France - financeparticipatif.org - ECPv6.15.5//NONSGML v1.0//EN
CALSCALE:GREGORIAN
METHOD:PUBLISH
X-ORIGINAL-URL:https://financeparticipative.org
X-WR-CALDESC:Évènements pour FPF Financement Participatif France - financeparticipatif.org
REFRESH-INTERVAL;VALUE=DURATION:PT1H
X-Robots-Tag:noindex
X-PUBLISHED-TTL:PT1H
BEGIN:VTIMEZONE
TZID:Europe/Paris
BEGIN:DAYLIGHT
TZOFFSETFROM:+0100
TZOFFSETTO:+0200
TZNAME:CEST
DTSTART:20160327T010000
END:DAYLIGHT
BEGIN:STANDARD
TZOFFSETFROM:+0200
TZOFFSETTO:+0100
TZNAME:CET
DTSTART:20161030T010000
END:STANDARD
END:VTIMEZONE
BEGIN:VEVENT
DTSTART;VALUE=DATE:20161005
DTEND;VALUE=DATE:20161007
DTSTAMP:20260421T131541
CREATED:20160916T142746Z
LAST-MODIFIED:20160929T075937Z
UID:5270-1475625600-1475798399@financeparticipative.org
SUMMARY:BORDEAUX FINTECH 2016
DESCRIPTION:  \nBordeaux FinTech 2016 : Back to reality\, retour au réel.\nBonjour à toutes et à tous\, Comme vous le savez\, la 2ème édition de Bordeaux Fintech revient les 5&6 Octobre prochain aux Halles Darwin. \nOrganisée par Louis Alexandre de Froissard et Guillaume-Olivier Doré\, cette deuxième édition de 24h00 s’annonce bien ! \nPar des entrepreneurs et pour des entrepreneurs ! L’objectif de cet événement : réunir les acteurs qui comptent dans l’écosystème FinTech afin de faire un point sur l’évolution du secteur et d’échanger ensemble sur la réalité des Fintech\, les enjeux\, les solutions apportées par leur utilisation et enfin les perspectives envisagées ! \n#UXFinTech \nLa soirée Utilisateur du 5 Octobre permet à une sélection de FinTech de se présenter au public. L’objectif est de faire découvrir à une assemblée de 300 à 500 décideurs aquitains (entrepreneurs\, DAF\, Trésoriers\, Libéraux\, Experts Comptables\, Associations\, (…) les solutions FinTech qui changent leur quotidien. \n#WeAreFinTech\n\nLa journée du 6 Octobre est réservée aux professionnels. Lors de conférences et d’ateliers proposés\, cette journée permet de se poser les bonnes questions afin de prendre conscience de la réalité des FinTech en France et en Europe : \n– Banques vs FinTech : L’hybridation jusqu’où ? Construire dans l’opposition ?\n– Blockchain : Quoi de concret à ce jour ? Quel niveau de sécurité ?\n– Europe of Fintech : Tirer les leçons des excès US ? La France pont entre le Nord et le Sud ?\n– La sécurité du Crowdlending\, Rupture des paiement : Fin de partie ? Néo-banques : rentables ? FinTech : \nPrivate Equity trends of 2016 ? \n– Conseil en Gestion de Patrimoine vs FinTech : un remake d’Uber contre les taxis ?\n– …. \n#Disruptif\nComme toujours le ton sera libre\, créatif\, inventif\, disruptif… C’est en sortant de sa zone de confort que l’on donne le meilleur de soi ! De plus nous proposons comme l’année dernière de prendre de la hauteur avec 2 grands experts :\n– Marc Halevy – Physicien et Philosophe (www.moetique.eu)\n– Yannick Roudault – Ex-journaliste Financier – Conférencier Ils viennent nous expliquer en quoi la FinTech pourrait s’inscrire dans un mouvement plus global. \n#International Bordeaux Fintech va\, cette année\, tourner son regard vers l’international grâce notamment à la présence de Susanne Chishti (présidente de Fintech Circle Innovate\, accélérateur de Fintech leader sur le marché londonien) et de FinTech européennes afin de partager le point de vue et les expériences vécues par les différents acteurs européens.\nDe nombreux acteurs nous aident\, vous les retrouverez :\n– des plateformes de crowdfunding (Lendix\, Look&Fin\, Crédit.fr\, Lendopolis) ;\n– des FinTech (Morning\, Paymium\, Advize\, BlackFin CP\, Smile&Pay\, PayTop\, Edebex\, Anytime\, Neftys\, Robin Finance\, Origin\, Bankin\, Kantox) ;\n– des banques\, (Société Générale\, CM Arkea\, Binck\, … ) ; des investisseurs (BlackFinCP);\n– des conseillers en gestion de patrimoine (Cyrus Conseil\, Montaigne Conseil) ;\n– des institutionnels (Finance Innovation\, Ville de Bordeaux). \nNous vous attendons donc nombreux lors de cette deuxième édition de Bordeaux FinTech pour devenir des acteurs de la révolution FinTech déjà en marche ! Plus d’infos : bxfintech.com \nRéserver votre place dès maintenant ici : www.eventbrite.fr  \nTarifs et conditions étudiants sur demande : coordination@bxfintech.com
URL:https://financeparticipative.org/calendrier-de-la-finance-participative/bordeaux-fintech-2016/
LOCATION:DARWIN\, Halles Darwin\, Bordeaux\, 33000\, France
CATEGORIES:Actu crowdfunding,Fintech
ATTACH;FMTTYPE=image/jpeg:https://financeparticipative.org/wp-content/uploads/2016/09/Fb_bxfintech2-e1495819917183.jpg
END:VEVENT
END:VCALENDAR