BEGIN:VCALENDAR
VERSION:2.0
PRODID:-//FPF Financement Participatif France - financeparticipatif.org - ECPv6.15.5//NONSGML v1.0//EN
CALSCALE:GREGORIAN
METHOD:PUBLISH
X-ORIGINAL-URL:https://financeparticipative.org
X-WR-CALDESC:Évènements pour FPF Financement Participatif France - financeparticipatif.org
REFRESH-INTERVAL;VALUE=DURATION:PT1H
X-Robots-Tag:noindex
X-PUBLISHED-TTL:PT1H
BEGIN:VTIMEZONE
TZID:Europe/Paris
BEGIN:DAYLIGHT
TZOFFSETFROM:+0100
TZOFFSETTO:+0200
TZNAME:CEST
DTSTART:20160327T010000
END:DAYLIGHT
BEGIN:STANDARD
TZOFFSETFROM:+0200
TZOFFSETTO:+0100
TZNAME:CET
DTSTART:20161030T010000
END:STANDARD
END:VTIMEZONE
BEGIN:VEVENT
DTSTART;VALUE=DATE:20160920
DTEND;VALUE=DATE:20160921
DTSTAMP:20260425T005541
CREATED:20160804T160133Z
LAST-MODIFIED:20160919T195246Z
UID:5152-1474329600-1474415999@financeparticipative.org
SUMMARY:Mécénat et Territoire : vers un circuit court de l'intérêt général?
DESCRIPTION:KOEO & Génération 2\, en partenariat avec la Mairie du XVIII ème arrondissement de Paris et l’Association Française des Fundraisers\, organisent un événement le 20 septembre 2016\, sur le financement participatif\, comme une alternative au financement du développement des collectivités territoriales.\nProgramme\nIntroduction : Eric Lejoindre\, Maire du 18ème arrondissement de Paris \n9h30 \n\nTerritoires et Co-construction\npar Charles-Benoît Heidsieck\, Président/fondateur du Rameau\, Floriant Covelli\, Responsable du développement territorial à la Fondation de France et Akim Oural\, adjoint au Maire de LIlle et auteur du Rapport sur l’Innovation Territoriale\n\n10h40-11h \n\nGeek des Territoires\nDémonstration de la plateforme Co-city par Coline Siguier\n\n11h-12h30  \n\nParoles de Territoires : retours d’expériences et d’innovations d’acteurs locaux engagés\nCréation et développement d’un fonds territorial par Stéphanie Ioan de Bordeaux Mécènes Solidaires\nUn partenariat multi-acteurs pour les territoires par Jean-Guy Henckel fondateur duRéseau Cocagne\, sur le partenariat Vinci-Réseau Cocagne\nLe développement territorial et le lien avec la société civile\, priorité des communes par Othmane Khaoua Conseiller municipal délégué à l’ESS Ville de Sceaux
URL:https://financeparticipative.org/calendrier-de-la-finance-participative/mecenat-et-territoire-vers-un-circuit-court-de-linteret-general/
CATEGORIES:Actu crowdfunding,Evénements,collectivités territoriales
ATTACH;FMTTYPE=image/png:https://financeparticipative.org/wp-content/uploads/2016/08/bandeau_174913-e1470325317618.png
END:VEVENT
BEGIN:VEVENT
DTSTART;TZID=Europe/Paris:20160920T184500
DTEND;TZID=Europe/Paris:20160920T213000
DTSTAMP:20260425T005541
CREATED:20160818T132947Z
LAST-MODIFIED:20160819T162531Z
UID:5226-1474397100-1474407000@financeparticipative.org
SUMMARY:CROWDTUESDAY : le crowdfunding en obligations
DESCRIPTION:
URL:https://financeparticipative.org/calendrier-de-la-finance-participative/crowdtuesday-le-crowdfunding-en-obligations/
CATEGORIES:CrowdTuesday,Actu crowdfunding,Evénements
ATTACH;FMTTYPE=image/png:https://financeparticipative.org/wp-content/uploads/2016/05/CrowdTuesday__logodesign-yellow-final-e1501660748920.png
END:VEVENT
BEGIN:VEVENT
DTSTART;TZID=Europe/Paris:20160928T193000
DTEND;TZID=Europe/Paris:20160928T213000
DTSTAMP:20260425T005541
CREATED:20160922T153700Z
LAST-MODIFIED:20160922T153700Z
UID:5330-1475091000-1475098200@financeparticipative.org
SUMMARY:Soirée 1001PACT pitch & cocktail "Tout savoir sur l'investissement rentable et social"
DESCRIPTION:Nous avons le plaisir de vous inviter à notre Soirée pitch & cocktail « Tout savoir sur l’investissement rentable et social : start-ups et produits financiers«  \nMercredi 28 sept. à 19h30 – Auditorium de Natixis (bâtiment Arc-de-Seine) \n30 avenue Pierre Mendès-France\, Paris 13ème (métro Quai de la Gare ou Gare d’Auzterlitz) \nEn partenariat avec Phitrust\, Mirova et Mediatico\, 1001pact vous présente les solutions d’investissement responsable dans des entreprises non-cotées\, sociales et éthiques. C’est une édition spéciale dans le cadre de la Semaine de la Finance responsable. \nProgramme :\nTable-ronde avec Emmanuel Gautier de Mirova\, Xavier Thauron de PhiTrust Partenaires et Eva Sadoun de 1001PACT. \nPitch des nouvelles start-ups en levée de fonds : CommunicoTool\, Familles solidaires\, Alg&You  \nLa soirée sera suivie d’un cocktail. \nPlus d’informations sur les intervenants et Inscription (gratuite mais obligatoire\, places limitées) >>
URL:https://financeparticipative.org/calendrier-de-la-finance-participative/soiree-1001pact-pitch-cocktail-tout-savoir-sur-linvestissement-rentable-et-social/
LOCATION:Auditorium de Natixis\, 30 avenue Pierre Mendès-France\, \, Paris\, 75013\, France
CATEGORIES:Evénements
END:VEVENT
END:VCALENDAR