BEGIN:VCALENDAR
VERSION:2.0
PRODID:-//FPF Financement Participatif France - financeparticipatif.org - ECPv6.15.5//NONSGML v1.0//EN
CALSCALE:GREGORIAN
METHOD:PUBLISH
X-WR-CALNAME:FPF Financement Participatif France - financeparticipatif.org
X-ORIGINAL-URL:https://financeparticipative.org
X-WR-CALDESC:Évènements pour FPF Financement Participatif France - financeparticipatif.org
REFRESH-INTERVAL;VALUE=DURATION:PT1H
X-Robots-Tag:noindex
X-PUBLISHED-TTL:PT1H
BEGIN:VTIMEZONE
TZID:Europe/Paris
BEGIN:DAYLIGHT
TZOFFSETFROM:+0100
TZOFFSETTO:+0200
TZNAME:CEST
DTSTART:20170326T010000
END:DAYLIGHT
BEGIN:STANDARD
TZOFFSETFROM:+0200
TZOFFSETTO:+0100
TZNAME:CET
DTSTART:20171029T010000
END:STANDARD
END:VTIMEZONE
BEGIN:VEVENT
DTSTART;VALUE=DATE:20170206
DTEND;VALUE=DATE:20170208
DTSTAMP:20260424T170543
CREATED:20161130T135450Z
LAST-MODIFIED:20161208T105945Z
UID:6052-1486422000-1486508399@financeparticipative.org
SUMMARY:Etape à Annecy du Tour de France de la finance participative
DESCRIPTION:Le Tour de France de la finance participative fera étape à Annecy\, en partenariat avec la CCI Haute-Savoie et la Communauté de l’Agglomération d’Annecy.\n\n\n\n\n\n\n\nRejoignez-nous sur l’étape du Tour de France de la Finance Participative en Haute-Savoie !\nAu programme :\n\nPanorama et actualité réglementaire du crowdfunding par Financement Participatif France.\nLe financement participatif\, quelles solutions\, pour quels projets : don\, investissement\, prêt ? Témoignages d’entrepreneurs ayant mené des campagnes de financement participatif.\nPrésentation des actions de Bpifrance et la plateforme « tousnosprojets.fr ».\nSpeed Business Meeting pour développer votre réseau et partager vos objectifs avec les entrepreneurs et les plateformes de financement participatif présentes sur l’évènement.
URL:https://financeparticipative.org/calendrier-de-la-finance-participative/etape-a-annecy-du-tour-de-france-de-la-finance-participative/
LOCATION:CCI Haute-Savoie\, 5 rue du 27ème BCA\, Annecy\, 74000\, France
CATEGORIES:Tour de France de la Finance Participative,Actu crowdfunding,Evénements
END:VEVENT
BEGIN:VEVENT
DTSTART;VALUE=DATE:20170209
DTEND;VALUE=DATE:20170211
DTSTAMP:20260424T170543
CREATED:20161221T115935Z
LAST-MODIFIED:20170111T165453Z
UID:6171-1486681200-1486767599@financeparticipative.org
SUMMARY:Etape dijonnaise du Tour de France de la finance participative
DESCRIPTION:La Maison Régionale de l’innovation de Dijon\, accueille l’étape dijonnaise du Tour de France de la finance participative\, organisée par l’association Financement Participatif France (FPF)\, Bpifrance et la CCI France.\nDijon\, Le vendredi 10 février 2017 dans la matinée.\n Lieu : La Maison régionale de l’innovation\, Dijon\nElle invite à cette occasion toute partie prenante de la chaîne de financement intéressée par le crowdfunding ;\n\nPorteurs de projet\,\nchefs d’entreprises\,\navocats\,\nbanquiers\,\nacteurs de l’appui aux entreprises et au développement.\n\nUn événement organisé par : Région Bourgogne France-Comté
URL:https://financeparticipative.org/calendrier-de-la-finance-participative/etape-a-dijon-du-tour-de-france-de-la-finance-participative/
LOCATION:Maison Régionale de l’Innovation\, Rue Sully \, Dijon\, 21000\, France
CATEGORIES:Tour de France de la Finance Participative,Actu crowdfunding,Evénements,collectivités territoriales,Financement Collaboratif
END:VEVENT
END:VCALENDAR