BEGIN:VCALENDAR
VERSION:2.0
PRODID:-//FPF Financement Participatif France - financeparticipatif.org - ECPv6.15.5//NONSGML v1.0//EN
CALSCALE:GREGORIAN
METHOD:PUBLISH
X-WR-CALNAME:FPF Financement Participatif France - financeparticipatif.org
X-ORIGINAL-URL:https://financeparticipative.org
X-WR-CALDESC:Évènements pour FPF Financement Participatif France - financeparticipatif.org
REFRESH-INTERVAL;VALUE=DURATION:PT1H
X-Robots-Tag:noindex
X-PUBLISHED-TTL:PT1H
BEGIN:VTIMEZONE
TZID:Europe/Paris
BEGIN:DAYLIGHT
TZOFFSETFROM:+0100
TZOFFSETTO:+0200
TZNAME:CEST
DTSTART:20170326T010000
END:DAYLIGHT
BEGIN:STANDARD
TZOFFSETFROM:+0200
TZOFFSETTO:+0100
TZNAME:CET
DTSTART:20171029T010000
END:STANDARD
END:VTIMEZONE
BEGIN:VEVENT
DTSTART;TZID=Europe/Paris:20170325T123000
DTEND;TZID=Europe/Paris:20170325T160000
DTSTAMP:20260424T152736
CREATED:20170302T115151Z
LAST-MODIFIED:20170307T095316Z
UID:6432-1490445000-1490457600@financeparticipative.org
SUMMARY:3ème fête de la finance alternative & solidaire
DESCRIPTION:L’association MyMoneyHelp organise la 3ème fête de la finance alternative et solidaire à Lille le samedi 25 mars prochain à partir de 13h30. \nLes financeurs alternatifs (plateformes de crowdfunding\, Structures de prêts\, de fonds propres…) rencontreront des porteurs de projets en recherche de financements. \nL’événement est soutenu par Financement Participatif France\, la Ville de Lille ainsi que la CRESS Hauts-de-France. \nInscriptions
URL:https://financeparticipative.org/calendrier-de-la-finance-participative/3eme-fete-de-la-finance-alternative-solidaire/
CATEGORIES:Evénements,Financement Collaboratif
ATTACH;FMTTYPE=image/jpeg:https://financeparticipative.org/wp-content/uploads/2017/03/3eme-fête-du-financement-alternatif-Ville-de-Lille-e1495819449833.jpg
END:VEVENT
END:VCALENDAR