BEGIN:VCALENDAR
VERSION:2.0
PRODID:-//FPF Financement Participatif France - financeparticipatif.org - ECPv6.15.5//NONSGML v1.0//EN
CALSCALE:GREGORIAN
METHOD:PUBLISH
X-ORIGINAL-URL:https://financeparticipative.org
X-WR-CALDESC:Évènements pour FPF Financement Participatif France - financeparticipatif.org
REFRESH-INTERVAL;VALUE=DURATION:PT1H
X-Robots-Tag:noindex
X-PUBLISHED-TTL:PT1H
BEGIN:VTIMEZONE
TZID:Europe/Paris
BEGIN:DAYLIGHT
TZOFFSETFROM:+0100
TZOFFSETTO:+0200
TZNAME:CEST
DTSTART:20170326T010000
END:DAYLIGHT
BEGIN:STANDARD
TZOFFSETFROM:+0200
TZOFFSETTO:+0100
TZNAME:CET
DTSTART:20171029T010000
END:STANDARD
END:VTIMEZONE
BEGIN:VEVENT
DTSTART;TZID=Europe/Paris:20171009T110000
DTEND;TZID=Europe/Paris:20171009T120000
DTSTAMP:20260424T031542
CREATED:20170928T073306Z
LAST-MODIFIED:20170928T073306Z
UID:7095-1507546800-1507550400@financeparticipative.org
SUMMARY:Les Rendez-vous de l'entrepreneuriat d'Orly Paris
DESCRIPTION:Le lundi 9 octobre\, FPF animera un atelier sur « Comment réussir sa campagne de crowdfunding ? » au Rendez-vous de l’entrepreneuriat d’Orly Paris.
URL:https://financeparticipative.org/calendrier-de-la-finance-participative/les-rendez-vous-de-lentrepreneuriat-dorly-paris-2/
LOCATION:Aérogare Orly Sud-Porte C\, 4e étage\, ORLY AEROGARE BP 232 94543  Cedex\, Orly\, 95543\, France
CATEGORIES:Actu crowdfunding,Evénements
END:VEVENT
END:VCALENDAR