BEGIN:VCALENDAR
VERSION:2.0
PRODID:-//FPF Financement Participatif France - financeparticipatif.org - ECPv6.15.5//NONSGML v1.0//EN
CALSCALE:GREGORIAN
METHOD:PUBLISH
X-WR-CALNAME:FPF Financement Participatif France - financeparticipatif.org
X-ORIGINAL-URL:https://financeparticipative.org
X-WR-CALDESC:Évènements pour FPF Financement Participatif France - financeparticipatif.org
REFRESH-INTERVAL;VALUE=DURATION:PT1H
X-Robots-Tag:noindex
X-PUBLISHED-TTL:PT1H
BEGIN:VTIMEZONE
TZID:Europe/Paris
BEGIN:DAYLIGHT
TZOFFSETFROM:+0100
TZOFFSETTO:+0200
TZNAME:CEST
DTSTART:20180325T010000
END:DAYLIGHT
BEGIN:STANDARD
TZOFFSETFROM:+0200
TZOFFSETTO:+0100
TZNAME:CET
DTSTART:20181028T010000
END:STANDARD
END:VTIMEZONE
BEGIN:VEVENT
DTSTART;TZID=Europe/Paris:20180327T173000
DTEND;TZID=Europe/Paris:20180327T193000
DTSTAMP:20260423T182802
CREATED:20180321T162533Z
LAST-MODIFIED:20180321T162533Z
UID:7482-1522171800-1522179000@financeparticipative.org
SUMMARY:Tout savoir sur le Financement participatif
DESCRIPTION:Le financement participatif\, ça me concerne ?\nOn entend de plus en plus parler de financement participatif\, ou « crowdfunding »\, mais de quoi s’agit-il ?\nQui peut lancer une campagne de financement participatif et pour quels types de projets ?\nLe crowdfunding recouvre une grande variété d’acteurs et de types de financement (don avec contrepartie\, prêt rémunéré\, investissement en capital…).\nLa CCI Moselle Métropole Metz vous propose d’en savoir plus et de connaître les dessous d’une campagne réussie ! \nLa réunion sera animée par Florence de Maupeou\,\ncoordinatrice générale de l’association « Financement Participatif France » \nProgramme : \n\nCrowdfunding\, de quoi parle-t-on ?\nFaire appel au don pour financer mon entreprise ?\nLe crowdlending\, pour qui ? pour quoi ?\nOuvrir son capital à des investisseurs particuliers ?\nLes clés de la réussite d’une campagne de financement participatif.\nComment identifier la bonne plateforme ?\n\n[Lien vers l’événement facebook] \n[Inscriptions]
URL:https://financeparticipative.org/calendrier-de-la-finance-participative/tout-savoir-sur-le-financement-participatif/
LOCATION:CCI de la Moselle\, 10/12 avenue Foch\, Metz\, 57000
CATEGORIES:Actu crowdfunding,Evénements
ATTACH;FMTTYPE=image/jpeg:https://financeparticipative.org/wp-content/uploads/2018/03/Visuel-conférence-FPF-CCI-Moselle-e1521645615518.jpg
END:VEVENT
BEGIN:VEVENT
DTSTART;TZID=Europe/Paris:20180329T090000
DTEND;TZID=Europe/Paris:20180329T103000
DTSTAMP:20260423T182802
CREATED:20180321T165720Z
LAST-MODIFIED:20180321T165720Z
UID:7503-1522314000-1522319400@financeparticipative.org
SUMMARY:Finansol : Crowdfunding et Fintech\, l'avenir de la finance solidaire ?
DESCRIPTION:Finansol organise le jeudi 29 mars 2018\, de 9h00* à 10h30\, son petit-déjeuner/débat sur le thème « Crowdfunding et Fintech : l’avenir de la finance solidaire ? » \nAvec la participation de :\nThibault Cuénoud\, président de jadopteunprojet.com\nStéphanie Savel\, présidente de Financement Participatif France et de WiSEED\nCatherine Von Dahle\, responsable de la filière Finance ESS du pôle\nFinance Innovation \nAnimé par Laurence Moret\, Crédit Coopératif \nLieu : Anticafé Louvre (10 rue Richelieu\, 75001 Paris) \nInscription obligatoire au plus tard le 22 mars 2018 \n*Accueil café dès 8h45\n\n\n\n\n\n\n\n  \n\n\n\n\n\n\n\nS’inscrire
URL:https://financeparticipative.org/calendrier-de-la-finance-participative/finansol-crowdfunding-et-fintech-lavenir-de-la-finance-solidaire/
LOCATION:Anticafé\, 10 rue Richelieu\, Paris\, 75001
CATEGORIES:Actu crowdfunding,Evénements,Fintech
END:VEVENT
BEGIN:VEVENT
DTSTART;TZID=Europe/Paris:20180329T090000
DTEND;TZID=Europe/Paris:20180329T130000
DTSTAMP:20260423T182802
CREATED:20180321T163340Z
LAST-MODIFIED:20180321T163340Z
UID:7493-1522314000-1522328400@financeparticipative.org
SUMMARY:5èmes Assises Internationales de l’Économie du Partage « Coopératives\, Mutuelles\, Fondations et Associations : Quelles pistes d’avenir pour la jeunesse ? »
DESCRIPTION:Cher(e)  Ami(e)\, \nNous vous informons que nous organisons les 5èmes Assises Internationales de l’Economie du Partage (anciennement Assises Internationales de la Coopération et du Mutualisme) avec nos partenaires privilégiés : COVEA\, BRED\, HARMONIE MUTUELLE\, et INVIVO\, auxquelles vous êtes cordialement invité(e)\, \nLe jeudi 29 mars 2018\nDe 09H00 à 13H00 \nDans les locaux du CNAM\nAmphithéâtre Paul Painlevé\n292 rue Saint Martin\, 75003 Paris \n  \nLe thème de cette édition 2018 est : « COOPERATIVES\, MUTUELLES\, FONDATIONS ET ASSOCIATIONS\, QUELLES PISTES D’AVENIR POUR LA JEUNESSE ? » \nProgramme et inscription via le site internet : https://assisesinternationalesdeleconomiedupartage.org/ \n  \nVous y trouverez aussi une présentation des Assises ainsi que des documents et photos relatifs aux éditions précédentes.\nNous espérons sincèrement avoir le plaisir de vous recevoir au CNAM le 29 mars prochain. \n  \nSalutations distinguées. \nThierry DEREZ\nPrésident Directeur Général de COVEA\nPrésident du Conseil Scientifique des 5èmes\nAssises Internationales de l’Économie du Partage \nOlivier Pastré\nProfesseur Université Paris VIII\nPrésident des Assises Internationales de l’Économie du Partage \n  \nPROGRAMME \n (09H00) Accueil par Olivier Faron\, Administrateur Général du CNAM  \nIntroduction  \n\nThierry Derez\, Président du Conseil Scientifique des 5èmes Assises Internationales de l’Economie du Partage\nOlivier Pastré\, Président des Assises Internationales de l’Economie du Partage\n\n Guest speaker : Yannick Blanc\, Haut-Commissaire à l’Engagement Civique \n I – Quelles sont les nouvelles formes d’entreprendre ? (09H30) \nModérateur Emmanuel Lechypre (BFM) \n\nAxelle Davezac\, Directrice Générale\, Fondation de France\nJoëlle Durieux\, Directrice Générale\, Finance Innovation\nDocteur Olivier de Ladoucette\, Président de la Fondation pour la Recherche sur Alzheimer\nJean-Marc Borello\, Président du Directoire\, Groupe SOS\nMarie Ekeland\, Co-Founder & Partner\, Daphni\nAnne Pfersdorff\, Présidente\, CJDES\n\n Guest speaker : Vincent Lavenu\, Manager de l’équipe cycliste d’AG2R La Mondiale \nII– Les territoires : que s’y passe-t-il\, que font-ils ? (10H45) \nModérateur : Sophie Seroussi (ex Journaliste LCP) \n\nJean-Martin Cohen-Solal\, Délégué auprès du Président\, Mutualité Française\nJean-Louis Bancel\, Président\, Crédit Coopératif\nBaptiste Gatouillat\, Vice-Président\, Jeunes Agriculteurs\nMarie-Thérèse Berder\, Vice-Présidente\, Harmonie Mutuelle\nHenri Nallet\, Président\, Fondation Jean Jaurès\, ancien Ministre de l’Agriculture\n\nGuest speaker : François Baroin\, Maire de Troyes et Président de l’Association des Maires de France – Entretien avec Jean-Hervé Lorenzi\, Président du Cercle des Economistes \nIII– Coopération\, Mutualisme et Economie du Partage\, une solution ? (12H00) \nModérateur Philippe Plassart (Nouvel Economiste) \n\nStéphanie Savel\, Présidente\, Wiseed\nThierry Blandinières\, Directeur Général\, Invivo\nEmmanuel Roux\, Directeur Général\, Aesio\nAmélie Rafael\, Vice-Présidente\, Confédération Générale des Scop\nJean-Pierre Petit\, Président\, Cahiers Verts de l’Economie\nRobert Zarader\, Président\, Equancy & Co\n\nClôture : Julien Denormandie\, Secrétaire d’Etat auprès du Ministre de la Cohésion des Territoires (to be confirmed) \nDéclaration Finale : Olivier Pastré\, Président des Assises Internationales de l’Economie du Partage
URL:https://financeparticipative.org/calendrier-de-la-finance-participative/5emes-assises-internationales-de-leconomie-du-partage-cooperatives-mutuelles-fondations-et-associations-quelles-pistes-davenir-pour-la-jeunesse/
LOCATION:CNAM\, 292 rue Saint Martin\, Paris\, 75003
CATEGORIES:Evénements
END:VEVENT
END:VCALENDAR