BEGIN:VCALENDAR
VERSION:2.0
PRODID:-//FPF Financement Participatif France - financeparticipatif.org - ECPv6.15.5//NONSGML v1.0//EN
CALSCALE:GREGORIAN
METHOD:PUBLISH
X-WR-CALNAME:FPF Financement Participatif France - financeparticipatif.org
X-ORIGINAL-URL:https://financeparticipative.org
X-WR-CALDESC:Évènements pour FPF Financement Participatif France - financeparticipatif.org
REFRESH-INTERVAL;VALUE=DURATION:PT1H
X-Robots-Tag:noindex
X-PUBLISHED-TTL:PT1H
BEGIN:VTIMEZONE
TZID:Europe/Paris
BEGIN:DAYLIGHT
TZOFFSETFROM:+0100
TZOFFSETTO:+0200
TZNAME:CEST
DTSTART:20180325T010000
END:DAYLIGHT
BEGIN:STANDARD
TZOFFSETFROM:+0200
TZOFFSETTO:+0100
TZNAME:CET
DTSTART:20181028T010000
END:STANDARD
END:VTIMEZONE
BEGIN:VEVENT
DTSTART;TZID=Europe/Paris:20181210T080000
DTEND;TZID=Europe/Paris:20181210T173000
DTSTAMP:20260423T054512
CREATED:20181120T180445Z
LAST-MODIFIED:20181120T180445Z
UID:7898-1544428800-1544463000@financeparticipative.org
SUMMARY:Rencontres du mécénat culturel
DESCRIPTION:Franck Riester\, ministre de la Culture \na le plaisir de vous convier aux premières \nRencontres du mécénat culturel \nà l’occasion des 15 ans de la loi du 1er août 2003 \nrelative au mécénat\, aux associations et aux fondations \nle lundi 10 décembre 2018 \nde 9h à 13h et de 14h30 à 18h30 \n  \nStéphanie Savel\, présidente de Financement Participatif France\, interviendra sur la table-ronde sur le mécénat populaire de 16h30 à 18h. \n  \nGrand Auditorium du Grand Palais\nEntrée Champs-Elysées\, square Jean Perrin\nAvenue du Général Eisenhower – 75008 Paris\nMétro : Champs-Elysée Clémenceau (Lignes 1 et 13)
URL:https://financeparticipative.org/calendrier-de-la-finance-participative/rencontres-du-mecenat-culturel/
LOCATION:Grand Palais\, Avenue du Général Eisenhower\, Paris\, 75008
CATEGORIES:Evénements
ATTACH;FMTTYPE=image/jpeg:https://financeparticipative.org/wp-content/uploads/2018/11/Ministère-culture.jpeg
ORGANIZER;CN="Minist%C3%A8re de la Culture":MAILTO:jeudisdumecenat.dicom@culture.gouv.fr
END:VEVENT
BEGIN:VEVENT
DTSTART;TZID=Europe/Paris:20181213T080000
DTEND;TZID=Europe/Paris:20181213T110000
DTSTAMP:20260423T054512
CREATED:20181120T181524Z
LAST-MODIFIED:20181120T181524Z
UID:7902-1544688000-1544698800@financeparticipative.org
SUMMARY:Séminaire Revue Banque : IOBSP/IFP - quelle réglementation\, sous quel contrôle ?
DESCRIPTION:PROGRAMME \nIntroduction de la séance\nBruno PELISSIER\, président de l’ORIAS \nDécryptage d’une réalité réglementaire dense\n– Multiplication des statuts et règles de non cumul\n– Perspectives encourageantes en termes de compétitivité de la Place de Paris\nEmmanuelle BOURETZ\, avocate\, Vivien & Associés \nLe point de vue et les attentes des autorités\n– Présentation de la réglementation\n– Quels sont les contrôles exercés ?\nNathalie BEAUDEMOULIN\,directeur du contrôle des pratiques commerciales\, ACPR\nChristian LAJOIE\, membre de la Commission des sanctions de l’ACPR \nPrésentation générale des réformes envisagées\nEmmanuel LARGE\, adjoint au chef de bureau\, Bureau des services bancaires et moyens de paiement\, Bancfin 4 \nPause \nRegards croisés et perspectives : quelles synergies entre les différents acteurs ?\n– Le principe des règles de non-cumul\n– Le respect de la mise en conformité des grandes obligations (LCB-FT\, RGPD\, DGCCRF)\nJean-Bernard VALADE\, directeur des relations publiques et institutionnelles\, PREMISTA\, président honoraire en charge des relations institutionnelles de l’AFIB\nGéraud CAMBOURNAC\, président de l’AFIB\nPhilippe TABORET\, DGA Cafpi\, président de l’APIC\nFabien MICHEL\, directeur général – Plateforme PretUp\, référent territorial Grand Est pour Financement Participatif France (FPF)\nDavid CHARLET\, président de l’ANACOFI\nAnimé par Daisy FACCHINETTI\, secrétaire générale de l’ORIAS
URL:https://financeparticipative.org/calendrier-de-la-finance-participative/seminaire-revue-banque-iobsp-ifp-quelle-reglementation-sous-quel-controle/
CATEGORIES:Actu crowdfunding,Réglementation,Evénements
ATTACH;FMTTYPE=image/png:https://financeparticipative.org/wp-content/uploads/2018/11/séminaire-IOBSP-IFP.png
END:VEVENT
END:VCALENDAR