BEGIN:VCALENDAR
VERSION:2.0
PRODID:-//FPF Financement Participatif France - financeparticipatif.org - ECPv6.15.5//NONSGML v1.0//EN
CALSCALE:GREGORIAN
METHOD:PUBLISH
X-WR-CALNAME:FPF Financement Participatif France - financeparticipatif.org
X-ORIGINAL-URL:https://financeparticipative.org
X-WR-CALDESC:Évènements pour FPF Financement Participatif France - financeparticipatif.org
REFRESH-INTERVAL;VALUE=DURATION:PT1H
X-Robots-Tag:noindex
X-PUBLISHED-TTL:PT1H
BEGIN:VTIMEZONE
TZID:Europe/Paris
BEGIN:DAYLIGHT
TZOFFSETFROM:+0100
TZOFFSETTO:+0200
TZNAME:CEST
DTSTART:20210328T010000
END:DAYLIGHT
BEGIN:STANDARD
TZOFFSETFROM:+0200
TZOFFSETTO:+0100
TZNAME:CET
DTSTART:20211031T010000
END:STANDARD
END:VTIMEZONE
BEGIN:VEVENT
DTSTART;TZID=Europe/Paris:20210826T090000
DTEND;TZID=Europe/Paris:20210826T110000
DTSTAMP:20260421T083117
CREATED:20210826T085734Z
LAST-MODIFIED:20210826T085734Z
UID:12612-1629968400-1629975600@financeparticipative.org
SUMMARY:Crowdfunding Regulation goes live (ECSP in Latvia)
DESCRIPTION:To inform on the crowdfunding regulatory framework which will take effect from 10 November 2021\, the Financial and Capital Market Commission (FCMC) will organise a webinar « Crowdfunding Regulation: goes live from 10 November » on 26 August. The webinar will be held in English\, prior registration is required. \nAmong the participants will be Marine Krasovska\, FCMC’s Financial Innovation Department Director\, Mārtiņš Grakauskis\, Chief Supervisory Expert and Ingus Valtiņš\, Senior Legal Consultant of the FCMC’s Licensing Division. A special guest at the webinar will be Karsten Wenzlaff\, Secretary-General of the German Crowdfunding Association and Alternative Finance Expert\, who together with the FCMC experts will answer the questions raised by the participants at the closing session and discuss developments in crowdfunding area in other countries.
URL:https://financeparticipative.org/calendrier-de-la-finance-participative/crowdfunding-regulation-goes-live-ecsp-in-latvia/
CATEGORIES:Réglementation,Evénements
END:VEVENT
END:VCALENDAR