BEGIN:VCALENDAR
VERSION:2.0
PRODID:-//FPF Financement Participatif France - financeparticipatif.org - ECPv6.15.5//NONSGML v1.0//EN
CALSCALE:GREGORIAN
METHOD:PUBLISH
X-ORIGINAL-URL:https://financeparticipative.org
X-WR-CALDESC:Évènements pour FPF Financement Participatif France - financeparticipatif.org
REFRESH-INTERVAL;VALUE=DURATION:PT1H
X-Robots-Tag:noindex
X-PUBLISHED-TTL:PT1H
BEGIN:VTIMEZONE
TZID:Europe/Paris
BEGIN:DAYLIGHT
TZOFFSETFROM:+0100
TZOFFSETTO:+0200
TZNAME:CEST
DTSTART:20230326T010000
END:DAYLIGHT
BEGIN:STANDARD
TZOFFSETFROM:+0200
TZOFFSETTO:+0100
TZNAME:CET
DTSTART:20231029T010000
END:STANDARD
END:VTIMEZONE
BEGIN:VEVENT
DTSTART;TZID=Europe/Paris:20230601T000000
DTEND;TZID=Europe/Paris:20230602T000000
DTSTAMP:20260419T224956
CREATED:20230328T134420Z
LAST-MODIFIED:20230328T134420Z
UID:16135-1685577600-1685664000@financeparticipative.org
SUMMARY:International Conference on Alternative Finance Research
DESCRIPTION:The 2nd International Conference for Alternative Finance Research is a dedicated forum for alternative finance researchers and practitioners from all around the globe. It covers themes addressing crowdfunding\, digital fundraising and lending\, microfinance and prosocial lending\, invoice trading\, crypto assets and currencies\, etc.\n\n\n\n\nThe conference serves as a cross-disciplinary meeting place for scholars of information systems\, economics\, finance\, entrepreneurship\, and marketing under one roof to exchange ideas and help develop the field both theoretically and practically\, while engaging in close dialog with industry stakeholders and policy makers.nding \n>> More information \n​
URL:https://financeparticipative.org/calendrier-de-la-finance-participative/international-conference-on-alternative-finance-research/
CATEGORIES:Evénements
ATTACH;FMTTYPE=image/png:https://financeparticipative.org/wp-content/uploads/2023/03/International-conference.png
END:VEVENT
BEGIN:VEVENT
DTSTART;TZID=Europe/Paris:20230606T084000
DTEND;TZID=Europe/Paris:20230606T130000
DTSTAMP:20260419T224956
CREATED:20230328T135114Z
LAST-MODIFIED:20230328T135206Z
UID:16141-1686040800-1686056400@financeparticipative.org
SUMMARY:Rencontres gestion d'actifs et innovation
DESCRIPTION:La 9ème édition des Rencontres Gestion d’Actifs et Innovation sera l’occasion d’analyser en profondeur les tendances du secteur de la gestion d’actifs.\n Y seront abordées les évolutions de l’industrie\, qui s’est transformée sous l’effet notamment de la crise sanitaire\, en revisitant ses gammes de produits et services ainsi que son organisation pour mieux répondre aux attentes des clients et aux enjeux sociétaux.\n\n Cet événement rassemblera autour des investisseurs institutionnels\, des grands conseillers en gestion de patrimoine et des gestionnaires d’actifs\, les acteurs incontournables de l’Asset Management. \n\n>> Plus d’informations
URL:https://financeparticipative.org/calendrier-de-la-finance-participative/rencontres-gestion-dactifs-et-innovation/
LOCATION:Salon de l’hôtel des arts et métiers\, 9bis avenue Iéna
CATEGORIES:Evénements
ATTACH;FMTTYPE=image/png:https://financeparticipative.org/wp-content/uploads/2023/03/Rencontre-gestion-dactifs.png
END:VEVENT
END:VCALENDAR