BEGIN:VCALENDAR
VERSION:2.0
PRODID:-//FPF Financement Participatif France - financeparticipatif.org - ECPv6.15.5//NONSGML v1.0//EN
CALSCALE:GREGORIAN
METHOD:PUBLISH
X-ORIGINAL-URL:https://financeparticipative.org
X-WR-CALDESC:Évènements pour FPF Financement Participatif France - financeparticipatif.org
REFRESH-INTERVAL;VALUE=DURATION:PT1H
X-Robots-Tag:noindex
X-PUBLISHED-TTL:PT1H
BEGIN:VTIMEZONE
TZID:Europe/Paris
BEGIN:DAYLIGHT
TZOFFSETFROM:+0100
TZOFFSETTO:+0200
TZNAME:CEST
DTSTART:20230326T010000
END:DAYLIGHT
BEGIN:STANDARD
TZOFFSETFROM:+0200
TZOFFSETTO:+0100
TZNAME:CET
DTSTART:20231029T010000
END:STANDARD
END:VTIMEZONE
BEGIN:VEVENT
DTSTART;TZID=Europe/Paris:20230707T090000
DTEND;TZID=Europe/Paris:20230707T101500
DTSTAMP:20260419T211120
CREATED:20230609T084752Z
LAST-MODIFIED:20230609T084752Z
UID:16365-1688720400-1688724900@financeparticipative.org
SUMMARY:Webinaire Ressources territoriales et transitions
DESCRIPTION:« Quels accompagnements pour le monde agricole ? » 📅 vendredi 7 juillet 2023\, de 9h00 à 10h15 \nLe monde agricole et agroalimentaire a besoin de soutien financier\, en ingénierie\, en développement\, en accompagnement : quels outils pour faciliter son dynamisme et son financement ? Comment les territoires peuvent se servir des entreprisesinnovantes pour dynamiser et développer leur économie ? Comment accompagner les entreprises du monde agricole dans les transitions qui nous obligent ? \nIntervenants :\n◾ Benjamin BREHIN\, Délégué général\, France Angels\n◾ Jean Christophe LEON\, Président d’AgriAngels\, réseau de Business Angels et d’entrepreneur.e.s dédié au monde agricole lancé en janvier\n◾Marie RABEISEN\, Directrice du développement chez MiiMOSA\, plateforme de financement participatif dédiée à la transition agricole et alimentaire\n◾Jaunay ANDRE\, Expert participatif\, innovateur multirécidiviste\, auteur \n>> S’inscrire au webinaire
URL:https://financeparticipative.org/calendrier-de-la-finance-participative/webinaire-ressources-territoriales-et-transitions/
CATEGORIES:Evénements
ATTACH;FMTTYPE=image/png:https://financeparticipative.org/wp-content/uploads/2023/06/2023-07-07_Webinaire-Agriculture-e1686300415784.png
END:VEVENT
BEGIN:VEVENT
DTSTART;VALUE=DATE:20230719
DTEND;VALUE=DATE:20230720
DTSTAMP:20260419T211120
CREATED:20230710T082102Z
LAST-MODIFIED:20230710T082102Z
UID:16467-1689724800-1689811199@financeparticipative.org
SUMMARY:Web3 Leaders Forum “by Adan”
DESCRIPTION:📅  19 juillet 2023\n📍 Palais Brongniart | 16 Place de la Bourse\, 75002 Paris \nDécouvrez les dernières tendances et sujets de fond liés au #web3 auprès de celles et ceux qui participent à sa construction sur le sol européen🔥 \n+50 Speakers📢 issus à la fois du monde de l’entreprise et des institutions publiques vous partagent leurs expertises afin de rendre accessible la technologie #blockchain et ses applications au quotidien. \n#rse #data #certification #traçabilité\nCes mots prennent un autre sens une fois passés sous le prisme de la transformation numérique en cours.  \nInterviews exclusives\, Tables rondes et Keynotes rythmeront cette journée qui s’achèvera par un cocktail networking. \nVous vous posez de nombreuses questions ❓ et cherchez à comprendre ce que la blockchain pourrait vous apporter. Rejoignez-nous au cœur de Paris pour rester à l’affût d’un nouveau monde en marche. \n  \nPour réserver votre place 🎫 cliquez sur ce lien: https://www.web3leaders.eu
URL:https://financeparticipative.org/calendrier-de-la-finance-participative/web3-leaders-forum-by-adan/
LOCATION:Palais Brongniart\, 28 place de la bourse\, Paris\, 75002\, France
CATEGORIES:Evénements,Fintech
ATTACH;FMTTYPE=image/png:https://financeparticipative.org/wp-content/uploads/2023/07/Banniere-Twitter-W3LF--e1688977248604.png
ORGANIZER;CN="Adan":MAILTO:contact@adan.eu
END:VEVENT
END:VCALENDAR