BEGIN:VCALENDAR
VERSION:2.0
PRODID:-//FPF Financement Participatif France - financeparticipatif.org - ECPv6.15.5//NONSGML v1.0//EN
CALSCALE:GREGORIAN
METHOD:PUBLISH
X-WR-CALNAME:FPF Financement Participatif France - financeparticipatif.org
X-ORIGINAL-URL:https://financeparticipative.org
X-WR-CALDESC:Évènements pour FPF Financement Participatif France - financeparticipatif.org
REFRESH-INTERVAL;VALUE=DURATION:PT1H
X-Robots-Tag:noindex
X-PUBLISHED-TTL:PT1H
BEGIN:VTIMEZONE
TZID:Europe/Paris
BEGIN:DAYLIGHT
TZOFFSETFROM:+0100
TZOFFSETTO:+0200
TZNAME:CEST
DTSTART:20230326T010000
END:DAYLIGHT
BEGIN:STANDARD
TZOFFSETFROM:+0200
TZOFFSETTO:+0100
TZNAME:CET
DTSTART:20231029T010000
END:STANDARD
END:VTIMEZONE
BEGIN:VEVENT
DTSTART;TZID=Europe/Paris:20231110T143000
DTEND;TZID=Europe/Paris:20231110T203000
DTSTAMP:20260419T164012
CREATED:20231026T084640Z
LAST-MODIFIED:20231026T084947Z
UID:16810-1699626600-1699648200@financeparticipative.org
SUMMARY:Sommet de l'immobilier 3.0
DESCRIPTION:Le 10 novembre prochain\, de 14h30 à 20h30\, Tokenland organise avec ses partenaires le premier événement dédié à la tokenisation immobilière… Mais aussi à l’immobilier fractionné et au crowdfunding ! \n  \nDes tables rondes de qualité vous serons proposées sur tous les sujets qui nous animent : \n\nla difficulté à faire de l’immobilier fractionné / tokenisé en France\nles apports possibles de la blockchain dans le secteur immobilier\nle futur investisseur immobilier\, ses habitudes\, ses envies\, ses besoins\nles tendances de la proptech liées à l’investissement\n\n  \n>> S’inscrire
URL:https://financeparticipative.org/calendrier-de-la-finance-participative/sommet-immo-3-0/
LOCATION:The Outpost\, 28 rue Fortuny\, Paris\, 75017\, France
CATEGORIES:Evénements,Tokenisation
ATTACH;FMTTYPE=image/png:https://financeparticipative.org/wp-content/uploads/2023/10/Sommet-immo-3.0-e1698308579979.png
END:VEVENT
END:VCALENDAR