BEGIN:VCALENDAR
VERSION:2.0
PRODID:-//FPF Financement Participatif France - financeparticipatif.org - ECPv6.15.5//NONSGML v1.0//EN
CALSCALE:GREGORIAN
METHOD:PUBLISH
X-ORIGINAL-URL:https://financeparticipative.org
X-WR-CALDESC:Évènements pour FPF Financement Participatif France - financeparticipatif.org
REFRESH-INTERVAL;VALUE=DURATION:PT1H
X-Robots-Tag:noindex
X-PUBLISHED-TTL:PT1H
BEGIN:VTIMEZONE
TZID:Europe/Paris
BEGIN:DAYLIGHT
TZOFFSETFROM:+0100
TZOFFSETTO:+0200
TZNAME:CEST
DTSTART:20170326T010000
END:DAYLIGHT
BEGIN:STANDARD
TZOFFSETFROM:+0200
TZOFFSETTO:+0100
TZNAME:CET
DTSTART:20171029T010000
END:STANDARD
END:VTIMEZONE
BEGIN:VEVENT
DTSTART;TZID=Europe/Paris:20170613T183000
DTEND;TZID=Europe/Paris:20170613T213000
DTSTAMP:20260424T120430
CREATED:20170529T141842Z
LAST-MODIFIED:20170529T141842Z
UID:6731-1497378600-1497389400@financeparticipative.org
SUMMARY:CROWDTUESDAY : Connaissance du client
DESCRIPTION:L’essor du crowdfunding s’est accompagné en France d’une réglementation stricte. Les plateformes sont tenues de connaître leurs clients via la collecte d’un certain nombre de pièces justificatives ; c’est ce qu’on appelle le KYC (Know Your Customer). Cette procédure répond d’une part au dispositif de lutte contre le blanchiment et le financement du terrorisme ; et d’autre part elle permet d’évaluer le profil de risque des clients pour adapter leurs conseils. Quelles sont les obligations des plateformes ? Comment rendre la connaissance client plus efficace ? Quels outils  technologiques sont utilisés ? Comment ne pas alourdir le processus d’investissement pour les financeurs ? Ce sont autant de questions que les intervenants aborderont. \n  \nProgramme : \n–Eléonore Cordesse\, directrice juridique chez Anaxago et secrétaire générale de Financement Participatif France \n–Jean-Marc Nourel\, Country Manager chez MANGOPAY\, prestataire de service d’investissement \n–Nicolas Gonzalez & Romain Deguest\, co-fondateurs de Fundvisory\, robo-advisor \nLes interventions seront animées par Pierre Storrer\, avocat chez Kramer Levin\, spécialisé en Droits des services de paiement – Droit bancaire – Droit de l’économie numérique \nEn partenariat avec \nCes échanges seront suivis de discussions informelles autour d’un buffet. \n \n 
URL:https://financeparticipative.org/calendrier-de-la-finance-participative/crowdtuesday-connaissance-du-client/
LOCATION:Kramer Levin\, 47 Avenue Hoche \, Paris \, 75 - Paris\, 75008\, France
CATEGORIES:CrowdTuesday
END:VEVENT
END:VCALENDAR