BEGIN:VCALENDAR
VERSION:2.0
PRODID:-//FPF Financement Participatif France - financeparticipatif.org - ECPv6.15.5//NONSGML v1.0//EN
CALSCALE:GREGORIAN
METHOD:PUBLISH
X-WR-CALNAME:FPF Financement Participatif France - financeparticipatif.org
X-ORIGINAL-URL:https://financeparticipative.org
X-WR-CALDESC:Évènements pour FPF Financement Participatif France - financeparticipatif.org
REFRESH-INTERVAL;VALUE=DURATION:PT1H
X-Robots-Tag:noindex
X-PUBLISHED-TTL:PT1H
BEGIN:VTIMEZONE
TZID:Europe/Paris
BEGIN:DAYLIGHT
TZOFFSETFROM:+0100
TZOFFSETTO:+0200
TZNAME:CEST
DTSTART:20180325T010000
END:DAYLIGHT
BEGIN:STANDARD
TZOFFSETFROM:+0200
TZOFFSETTO:+0100
TZNAME:CET
DTSTART:20181028T010000
END:STANDARD
END:VTIMEZONE
BEGIN:VEVENT
DTSTART;TZID=Europe/Paris:20180618T080000
DTEND;TZID=Europe/Paris:20180618T170000
DTSTAMP:20260423T154256
CREATED:20180618T083625Z
LAST-MODIFIED:20180618T083659Z
UID:7669-1529308800-1529341200@financeparticipative.org
SUMMARY:Forum des diasporas africaines
DESCRIPTION:Le Forum des Diasporas Africaines se déroule le 22 juin au Palais des Congrès à Paris\, sous le haut patronage d’Emmanuel Macron\, Président de la République Française. \nTable-ronde de 11h30 à 12h30\, avec Afrikwity\, sur le thème : \n\n« Quels nouveaux outils de financement pour vos projets ? »\n​En 2016\, d’après la Banque mondiale\, 32\,5 milliards d’euros ont été envoyés en Afrique par les membres de la diaspora\, ce qui en font les plus gros financeurs de l’économie africaine. C’est dix fois le montant de l’aide internationale au développement. Pour autant\, ces flux financiers viennent surtout soutenir la lutte contre la pauvreté et sont affectés à des dépenses primaires (santé\, alimentation\, logement\, etc.). Dès lors\, comment mettre ces ressources au service du développement ? Quels outils et mécanismes pour améliorer quantitativement et qualitativement l’investissement de la diaspora pour la croissance économique de l’Afrique ? Pour les porteurs de projets\, comment accéder au financement des banques ou des institutions de coopération ?Faites le point sur les solutions existantes et découvrez les nouveaux fonds et mécanismes innovants ! \n\n  \nInscriptions : https://www.weezevent.com/forum-des-diasporas-2 
URL:https://financeparticipative.org/calendrier-de-la-finance-participative/forum-des-diasporas-africaines/
LOCATION:Palais des Congrès\, 2\, place Porte Maillot\, Paris\, 75017
CATEGORIES:Evénements
ATTACH;FMTTYPE=image/jpeg:https://financeparticipative.org/wp-content/uploads/2018/06/Forum-Diasporas-africaines.jpg
END:VEVENT
END:VCALENDAR