BEGIN:VCALENDAR
VERSION:2.0
PRODID:-//FPF Financement Participatif France - financeparticipatif.org - ECPv6.15.5//NONSGML v1.0//EN
CALSCALE:GREGORIAN
METHOD:PUBLISH
X-ORIGINAL-URL:https://financeparticipative.org
X-WR-CALDESC:Évènements pour FPF Financement Participatif France - financeparticipatif.org
REFRESH-INTERVAL;VALUE=DURATION:PT1H
X-Robots-Tag:noindex
X-PUBLISHED-TTL:PT1H
BEGIN:VTIMEZONE
TZID:Europe/Paris
BEGIN:DAYLIGHT
TZOFFSETFROM:+0100
TZOFFSETTO:+0200
TZNAME:CEST
DTSTART:20180325T010000
END:DAYLIGHT
BEGIN:STANDARD
TZOFFSETFROM:+0200
TZOFFSETTO:+0100
TZNAME:CET
DTSTART:20181028T010000
END:STANDARD
END:VTIMEZONE
BEGIN:VEVENT
DTSTART;TZID=Europe/Paris:20180629T153000
DTEND;TZID=Europe/Paris:20180629T183000
DTSTAMP:20260423T142453
CREATED:20180430T120050Z
LAST-MODIFIED:20180430T120050Z
UID:7532-1530286200-1530297000@financeparticipative.org
SUMMARY:Séminaire sur le crowdfunding à Saint-Etienne
DESCRIPTION:L’association Gie-ESS du bassin stéphanois et Alpha Leonis organisent le 29 juin prochain un séminaire sur l’entrepreneuriat social avec comme thématique le crowdfunding. \n[Voir l’affiche de l’événement] \n 
URL:https://financeparticipative.org/calendrier-de-la-finance-participative/seminaire-sur-le-crowdfunding-a-saint-etienne/
LOCATION:Maison des associations de Saint-Etienne\, 4 Rue André Malraux\, Saint-Etienne\, 42 000
CATEGORIES:Evénements
END:VEVENT
END:VCALENDAR