BEGIN:VCALENDAR
VERSION:2.0
PRODID:-//FPF Financement Participatif France - financeparticipatif.org - ECPv6.15.5//NONSGML v1.0//EN
CALSCALE:GREGORIAN
METHOD:PUBLISH
X-WR-CALNAME:FPF Financement Participatif France - financeparticipatif.org
X-ORIGINAL-URL:https://financeparticipative.org
X-WR-CALDESC:Évènements pour FPF Financement Participatif France - financeparticipatif.org
REFRESH-INTERVAL;VALUE=DURATION:PT1H
X-Robots-Tag:noindex
X-PUBLISHED-TTL:PT1H
BEGIN:VTIMEZONE
TZID:Europe/Paris
BEGIN:DAYLIGHT
TZOFFSETFROM:+0100
TZOFFSETTO:+0200
TZNAME:CEST
DTSTART:20200329T010000
END:DAYLIGHT
BEGIN:STANDARD
TZOFFSETFROM:+0200
TZOFFSETTO:+0100
TZNAME:CET
DTSTART:20201025T010000
END:STANDARD
END:VTIMEZONE
BEGIN:VEVENT
DTSTART;VALUE=DATE:20201015
DTEND;VALUE=DATE:20201016
DTSTAMP:20260422T004302
CREATED:20200724T081642Z
LAST-MODIFIED:20200724T081916Z
UID:11540-1602720000-1602806399@financeparticipative.org
SUMMARY:FinTech R:Evolution
DESCRIPTION:  \n 
URL:https://financeparticipative.org/calendrier-de-la-finance-participative/fintech-revolution/
LOCATION:Station F\, 5 Parvis Alan Turing\, Paris\, 75013
CATEGORIES:Actu crowdfunding,Evénements,Fintech
ATTACH;FMTTYPE=image/jpeg:https://financeparticipative.org/wp-content/uploads/2020/05/FINTECH-e1600871370741.jpg
END:VEVENT
BEGIN:VEVENT
DTSTART;TZID=Europe/Paris:20201015T093000
DTEND;TZID=Europe/Paris:20201015T183000
DTSTAMP:20260422T004302
CREATED:20200504T085330Z
LAST-MODIFIED:20200504T085330Z
UID:10961-1602754200-1602786600@financeparticipative.org
SUMMARY:Salon Fintech R:Evolution
DESCRIPTION:Rendez-vous incontournable de l’univers entrepreneurial et financier\, FinTech R:Evolution rassemblera cette année plus de 1 500 participants. Entrepreneurs\, influenceurs\, décideurs\, chercheurs\, investisseurs\, journalistes : la scène fintech française et internationale s’y retrouve pour échanger et envisager ce que l’avenir pourra apporter au secteur.
URL:https://financeparticipative.org/calendrier-de-la-finance-participative/salon-fintech-revolution/
LOCATION:Station F\, 5 Parvis Alan Turing\, Paris\, 75013
CATEGORIES:Evénements,Fintech
ATTACH;FMTTYPE=image/jpeg:https://financeparticipative.org/wp-content/uploads/2020/05/FINTECH-e1600871370741.jpg
END:VEVENT
END:VCALENDAR