BEGIN:VCALENDAR
VERSION:2.0
PRODID:-//FPF Financement Participatif France - financeparticipatif.org - ECPv6.15.5//NONSGML v1.0//EN
CALSCALE:GREGORIAN
METHOD:PUBLISH
X-ORIGINAL-URL:https://financeparticipative.org
X-WR-CALDESC:Évènements pour FPF Financement Participatif France - financeparticipatif.org
REFRESH-INTERVAL;VALUE=DURATION:PT1H
X-Robots-Tag:noindex
X-PUBLISHED-TTL:PT1H
BEGIN:VTIMEZONE
TZID:Europe/Paris
BEGIN:DAYLIGHT
TZOFFSETFROM:+0100
TZOFFSETTO:+0200
TZNAME:CEST
DTSTART:20210328T010000
END:DAYLIGHT
BEGIN:STANDARD
TZOFFSETFROM:+0200
TZOFFSETTO:+0100
TZNAME:CET
DTSTART:20211031T010000
END:STANDARD
END:VTIMEZONE
BEGIN:VEVENT
DTSTART;TZID=Europe/Paris:20210415T140000
DTEND;TZID=Europe/Paris:20210415T160000
DTSTAMP:20260421T154609
CREATED:20210304T161406Z
LAST-MODIFIED:20210304T161406Z
UID:12114-1618495200-1618502400@financeparticipative.org
SUMMARY:Assemblée générale FPF
DESCRIPTION:Assemblée générale ordinaire Financement Participatif France
URL:https://financeparticipative.org/calendrier-de-la-finance-participative/assemblee-generale-fpf/
CATEGORIES:Evénements
ATTACH;FMTTYPE=image/jpeg:https://financeparticipative.org/wp-content/uploads/2016/10/démocratieparticipative-e1476875600373.jpg
END:VEVENT
END:VCALENDAR