BEGIN:VCALENDAR
VERSION:2.0
PRODID:-//FPF Financement Participatif France - financeparticipatif.org - ECPv6.15.5//NONSGML v1.0//EN
CALSCALE:GREGORIAN
METHOD:PUBLISH
X-WR-CALNAME:FPF Financement Participatif France - financeparticipatif.org
X-ORIGINAL-URL:https://financeparticipative.org
X-WR-CALDESC:Évènements pour FPF Financement Participatif France - financeparticipatif.org
REFRESH-INTERVAL;VALUE=DURATION:PT1H
X-Robots-Tag:noindex
X-PUBLISHED-TTL:PT1H
BEGIN:VTIMEZONE
TZID:Europe/Paris
BEGIN:DAYLIGHT
TZOFFSETFROM:+0100
TZOFFSETTO:+0200
TZNAME:CEST
DTSTART:20210328T010000
END:DAYLIGHT
BEGIN:STANDARD
TZOFFSETFROM:+0200
TZOFFSETTO:+0100
TZNAME:CET
DTSTART:20211031T010000
END:STANDARD
END:VTIMEZONE
BEGIN:VEVENT
DTSTART;TZID=Europe/Paris:20210630T100000
DTEND;TZID=Europe/Paris:20210630T110000
DTSTAMP:20260421T113548
CREATED:20210617T153817Z
LAST-MODIFIED:20210618T131509Z
UID:12508-1625047200-1625050800@financeparticipative.org
SUMMARY:WEBINAIRE : Financement participatif & collectivités territoriales
DESCRIPTION:Le financement participatif : quand les citoyens remplacent les banques (WEBINAIRE) \n  \n8 M€ collectés en 2011\, 336 M€ en 2017\, plus d’un milliard € en 2020\, le financement par la foule (le crowdfunding) plaît. Qui n’a pas donné quelques euros pour aider à financer le projet d’un ami ? Mais il s’adresse aussi aux financements de projet des collectivités. A ce titre\, il représente une source de diversification accessible en complément des financements traditionnels. Ce webinaire\, organisé par le Centre de formation des Maires et Elus Locaux de l’Hérault\, vous invite à découvrir ce nouveau mode de financement en 1h grâce à l’association Financement Participatif France qui regroupe les professionnels du crowdfunding. \nEdouard Meunier\, maire de Queige et Micheline Lemarchand\, adjointe au Maire de Martes Tolosane\, apporteront leur témoignage dans le cadre des collectes qu’ils ont mené sur Collecticity . \n\nMardi 29 juin de 17h à 18h\nMercredi 30 juin de 10h à 11h\n\nProgramme :  \n\nPanorama du Financement Participatif en France (30 min)\nRetours d’expérience (20 min)\nQuestions réponses (10 min)\n\n  \nInscription obligatoire ici.
URL:https://financeparticipative.org/calendrier-de-la-finance-participative/webinaire-financement-participatif-collectivites-territoriales-2/
CATEGORIES:Evénements
END:VEVENT
END:VCALENDAR