BEGIN:VCALENDAR
VERSION:2.0
PRODID:-//FPF Financement Participatif France - financeparticipatif.org - ECPv6.15.5//NONSGML v1.0//EN
CALSCALE:GREGORIAN
METHOD:PUBLISH
X-ORIGINAL-URL:https://financeparticipative.org
X-WR-CALDESC:Évènements pour FPF Financement Participatif France - financeparticipatif.org
REFRESH-INTERVAL;VALUE=DURATION:PT1H
X-Robots-Tag:noindex
X-PUBLISHED-TTL:PT1H
BEGIN:VTIMEZONE
TZID:Europe/Paris
BEGIN:DAYLIGHT
TZOFFSETFROM:+0100
TZOFFSETTO:+0200
TZNAME:CEST
DTSTART:20210328T010000
END:DAYLIGHT
BEGIN:STANDARD
TZOFFSETFROM:+0200
TZOFFSETTO:+0100
TZNAME:CET
DTSTART:20211031T010000
END:STANDARD
END:VTIMEZONE
BEGIN:VEVENT
DTSTART;VALUE=DATE:20211005
DTEND;VALUE=DATE:20211006
DTSTAMP:20260421T065411
CREATED:20210826T090720Z
LAST-MODIFIED:20210826T090720Z
UID:12614-1633392000-1633478399@financeparticipative.org
SUMMARY:ECAF Academic Conference in Utrecht
DESCRIPTION:The European Centre for Alternative Finance is hosting its academic conference in Utrecht on October 5th 2021. The event is part of the Community Finance Week in the Netherlands. More information on the program will be posted soon in the slack channel\, on the website of the ECAF and the website of the Crowdfunding Hub.
URL:https://financeparticipative.org/calendrier-de-la-finance-participative/ecaf-academic-conference-in-utrecht/
LOCATION:Utrecht University\, Pays-Bas
CATEGORIES:Evénements
END:VEVENT
END:VCALENDAR