BEGIN:VCALENDAR
VERSION:2.0
PRODID:-//FPF Financement Participatif France - financeparticipatif.org - ECPv6.15.5//NONSGML v1.0//EN
CALSCALE:GREGORIAN
METHOD:PUBLISH
X-ORIGINAL-URL:https://financeparticipative.org
X-WR-CALDESC:Évènements pour FPF Financement Participatif France - financeparticipatif.org
REFRESH-INTERVAL;VALUE=DURATION:PT1H
X-Robots-Tag:noindex
X-PUBLISHED-TTL:PT1H
BEGIN:VTIMEZONE
TZID:Europe/Paris
BEGIN:DAYLIGHT
TZOFFSETFROM:+0100
TZOFFSETTO:+0200
TZNAME:CEST
DTSTART:20220327T010000
END:DAYLIGHT
BEGIN:STANDARD
TZOFFSETFROM:+0200
TZOFFSETTO:+0100
TZNAME:CET
DTSTART:20221030T010000
END:STANDARD
END:VTIMEZONE
BEGIN:VEVENT
DTSTART;VALUE=DATE:20221130
DTEND;VALUE=DATE:20221202
DTSTAMP:20260420T092139
CREATED:20221005T092115Z
LAST-MODIFIED:20221005T092400Z
UID:14200-1669766400-1669939199@financeparticipative.org
SUMMARY:International Conference for Crowdfunding Research
DESCRIPTION:The International Conference for Crowdfunding Research is a dedicated forum for crowdfunding researchers and practitioners from all around the globe. It serves as a cross-disciplinary meeting place for scholars of information systems\, economics\, finance\, entrepreneurship\, and marketing researchers under one roof to exchange ideas and help develop the field both theoretically and practically\, while engaging in close dialog with industry stakeholders and policy makers. The 2022 event is organized as a collaboration between the University of Agder’s School of Business and Law and the Norwegian Crowdfunding Association with the generous support of the Norwegian Research Council and the University of Agder. \nRegistration
URL:https://financeparticipative.org/calendrier-de-la-finance-participative/international-conference-for-crowdfunding-research/
LOCATION:Oslo\, Norway
CATEGORIES:Evénements
ATTACH;FMTTYPE=image/png:https://financeparticipative.org/wp-content/uploads/2022/10/International-Conference-for-Crowdfunding-Research-2022-Oslo-e1664961522871.png
END:VEVENT
END:VCALENDAR