BEGIN:VCALENDAR
VERSION:2.0
PRODID:-//FPF Financement Participatif France - financeparticipatif.org - ECPv6.15.5//NONSGML v1.0//EN
CALSCALE:GREGORIAN
METHOD:PUBLISH
X-WR-CALNAME:FPF Financement Participatif France - financeparticipatif.org
X-ORIGINAL-URL:https://financeparticipative.org
X-WR-CALDESC:Évènements pour FPF Financement Participatif France - financeparticipatif.org
REFRESH-INTERVAL;VALUE=DURATION:PT1H
X-Robots-Tag:noindex
X-PUBLISHED-TTL:PT1H
BEGIN:VTIMEZONE
TZID:Europe/Paris
BEGIN:DAYLIGHT
TZOFFSETFROM:+0100
TZOFFSETTO:+0200
TZNAME:CEST
DTSTART:20160327T010000
END:DAYLIGHT
BEGIN:STANDARD
TZOFFSETFROM:+0200
TZOFFSETTO:+0100
TZNAME:CET
DTSTART:20161030T010000
END:STANDARD
BEGIN:DAYLIGHT
TZOFFSETFROM:+0100
TZOFFSETTO:+0200
TZNAME:CEST
DTSTART:20170326T010000
END:DAYLIGHT
BEGIN:STANDARD
TZOFFSETFROM:+0200
TZOFFSETTO:+0100
TZNAME:CET
DTSTART:20171029T010000
END:STANDARD
END:VTIMEZONE
BEGIN:VEVENT
DTSTART;VALUE=DATE:20170209
DTEND;VALUE=DATE:20170211
DTSTAMP:20260420T032023
CREATED:20161221T115935Z
LAST-MODIFIED:20170111T165453Z
UID:6171-1486681200-1486767599@financeparticipative.org
SUMMARY:Etape dijonnaise du Tour de France de la finance participative
DESCRIPTION:La Maison Régionale de l’innovation de Dijon\, accueille l’étape dijonnaise du Tour de France de la finance participative\, organisée par l’association Financement Participatif France (FPF)\, Bpifrance et la CCI France.\nDijon\, Le vendredi 10 février 2017 dans la matinée.\n Lieu : La Maison régionale de l’innovation\, Dijon\nElle invite à cette occasion toute partie prenante de la chaîne de financement intéressée par le crowdfunding ;\n\nPorteurs de projet\,\nchefs d’entreprises\,\navocats\,\nbanquiers\,\nacteurs de l’appui aux entreprises et au développement.\n\nUn événement organisé par : Région Bourgogne France-Comté
URL:https://financeparticipative.org/calendrier-de-la-finance-participative/etape-a-dijon-du-tour-de-france-de-la-finance-participative/
LOCATION:Maison Régionale de l’Innovation\, Rue Sully \, Dijon\, 21000\, France
CATEGORIES:Tour de France de la Finance Participative,Actu crowdfunding,Evénements,collectivités territoriales,Financement Collaboratif
END:VEVENT
BEGIN:VEVENT
DTSTART;VALUE=DATE:20170206
DTEND;VALUE=DATE:20170208
DTSTAMP:20260420T032023
CREATED:20161130T135450Z
LAST-MODIFIED:20161208T105945Z
UID:6052-1486422000-1486508399@financeparticipative.org
SUMMARY:Etape à Annecy du Tour de France de la finance participative
DESCRIPTION:Le Tour de France de la finance participative fera étape à Annecy\, en partenariat avec la CCI Haute-Savoie et la Communauté de l’Agglomération d’Annecy.\n\n\n\n\n\n\n\nRejoignez-nous sur l’étape du Tour de France de la Finance Participative en Haute-Savoie !\nAu programme :\n\nPanorama et actualité réglementaire du crowdfunding par Financement Participatif France.\nLe financement participatif\, quelles solutions\, pour quels projets : don\, investissement\, prêt ? Témoignages d’entrepreneurs ayant mené des campagnes de financement participatif.\nPrésentation des actions de Bpifrance et la plateforme « tousnosprojets.fr ».\nSpeed Business Meeting pour développer votre réseau et partager vos objectifs avec les entrepreneurs et les plateformes de financement participatif présentes sur l’évènement.
URL:https://financeparticipative.org/calendrier-de-la-finance-participative/etape-a-annecy-du-tour-de-france-de-la-finance-participative/
LOCATION:CCI Haute-Savoie\, 5 rue du 27ème BCA\, Annecy\, 74000\, France
CATEGORIES:Tour de France de la Finance Participative,Actu crowdfunding,Evénements
END:VEVENT
BEGIN:VEVENT
DTSTART;TZID=Europe/Paris:20161205T174500
DTEND;TZID=Europe/Paris:20161205T194500
DTSTAMP:20260420T032023
CREATED:20161109T153259Z
LAST-MODIFIED:20161109T153259Z
UID:5726-1480959900-1480967100@financeparticipative.org
SUMMARY:CrowdTuesday : Actualité réglementaire du crowdfunding
DESCRIPTION:
URL:https://financeparticipative.org/calendrier-de-la-finance-participative/crowdtuesday-actualite-reglementaire-du-crowdfunding/
LOCATION:Cabinet Kramer Levin\, 47 avenue Hoche\, Paris\, 75008\, France
CATEGORIES:CrowdTuesday,Actu crowdfunding,Evénements
END:VEVENT
BEGIN:VEVENT
DTSTART;TZID=Europe/Paris:20161129T173000
DTEND;TZID=Europe/Paris:20161129T190000
DTSTAMP:20260420T032023
CREATED:20161118T103758Z
LAST-MODIFIED:20161118T130837Z
UID:5823-1480440600-1480446000@financeparticipative.org
SUMMARY:AFTER WORK DEBAT #ESSNOUVELLEGENERATION
DESCRIPTION:Pour poursuivre les échanges des afterworks #ESSNOUVELLEGENERATION\, Le Crédit Municipal de Paris a le plaisir de vous inviter à une soirée de débats autour du thème :\n[ Les technologies numériques émergentes peuvent-elles servir la finance solidaire ?]\nEn présence de :\nGeneviève Bouché\, futurologue\,\nRyad Boulanouar\, cofondateur du compte Nickel\,\nJulien Benayoun\, cofondateur de 1001pact et membre de Finansol\, \nRaphaël Ravoux\, Partner Financial Services\, Ernst & Young associés.\nLes débats seront animés par Vincent David\, Agence de Relation d’Utilité Publique.\nIls seront suivis d’un cocktail.\nInscriptions : billets-ess-nouvelle-generation
URL:https://financeparticipative.org/calendrier-de-la-finance-participative/after-work-debat-ess/
LOCATION:CREDIT MUNICIPAL DE PARIS\, 55 RUE DES FRANCS-BOURGEOIS\, paris\, 75004\, France
CATEGORIES:Actu crowdfunding,Evénements,Fintech
END:VEVENT
BEGIN:VEVENT
DTSTART;TZID=Europe/Paris:20161115T174500
DTEND;TZID=Europe/Paris:20161115T200000
DTSTAMP:20260420T032023
CREATED:20161028T184307Z
LAST-MODIFIED:20161028T184426Z
UID:5666-1479231900-1479240000@financeparticipative.org
SUMMARY:CrowdTuesday : Finance participative et ESS
DESCRIPTION:
URL:https://financeparticipative.org/calendrier-de-la-finance-participative/crowdtuesday-finance-participative-et-ess/
LOCATION:Pôle FINANCE INNOVATION\, Palais Brongniart\, 28 Place de la Bourse \, Paris\, 75002
CATEGORIES:CrowdTuesday,Evénements
END:VEVENT
BEGIN:VEVENT
DTSTART;TZID=Europe/Paris:20161110T110000
DTEND;TZID=Europe/Paris:20161110T130000
DTSTAMP:20260420T032023
CREATED:20161012T095350Z
LAST-MODIFIED:20161024T134652Z
UID:5410-1478775600-1478782800@financeparticipative.org
SUMMARY:#EUCrowdShow Paris - Crowdsourced Roadshow in France
DESCRIPTION:by #EUCrowdShow By MyMicroInvest \nJoin us at EUCrowdShow\nthe world’s first (and biggest!) crowdsourced roadshow across 28 countries in Europe.\nLet’s have an exciting conversation on entrepreneurship and crowdfunding.\nCrowds are what MyMicroInvest is about\, and so we’re crowdsourcing this conversation\, both online and off.
URL:https://financeparticipative.org/calendrier-de-la-finance-participative/eucrowdshow-paris-crowdsourced-roadshow-in-france/
LOCATION:NUMA\, 39 Rue du Caire\, Paris\, 75 - Paris\, 75002\, France
CATEGORIES:Actu crowdfunding,Fintech
END:VEVENT
BEGIN:VEVENT
DTSTART;TZID=Europe/Paris:20161110T080000
DTEND;TZID=Europe/Paris:20161110T113000
DTSTAMP:20260420T032023
CREATED:20161118T114403Z
LAST-MODIFIED:20161118T115844Z
UID:5844-1478764800-1478777400@financeparticipative.org
SUMMARY:Le crowdfunding\, mode d'emploi Atelier
DESCRIPTION:Venez découvrir en une matinée\, les principes et règles du crowdfunding et échanger sur les bonnes pratiques pour financer vos projets d’entreprise.\nCet atelier vous permettra de :\n\ndistinguer les différentes formes de financement participatif : don\, prêt\, investissement\,\nconnaitre les plateformes de crowdfunding existantes\,\nIdentifier les clés marketing pour bien gérer votre campagne.\nQuelques exemples de recherche de financements réussis illustreront cette présentation interactive.\n\nObjectifs :\n\nvous informer sur le crowdfunding\, ses possibilités\, ses particularités et les écueils à éviter\,\nconnaitre les clés d’une campagne réussie\n\nPrincipaux points abordés :\n\nPrésenter les principes et règles du crowdfunding\n\nEchanger sur les bonnes pratiques pour financer vos projets d’entreprise.\nProgramme\nQu’est-ce que le financement participatif ?\n\nDéfinition du crowdfunding\nContexte\nLes différentes formes de crowdfunding\nSon fonctionnement\nLes tendances du secteur\n\nPourquoi faire appel au crowdfunding ?\n\nCas du don\, avec ou sans contrepartie\nCas du prêt\, rémunéré ou non rémunéré\nCas de l’investissement\, en capital\, obligations ou redevance\n\nComment mener une campagne ?\n\nLes clés de succès d’une campagne\nVers quelle(s) plateforme(s) se tourner?\nDurée\n\nIntervenants\nFlorence de MAUPEOU\nPublic: Créateurs et Entrepreneurs en quête de financement participatif.
URL:https://financeparticipative.org/calendrier-de-la-finance-participative/le-crowdfunding-mode-demploi-atelier/
LOCATION:Les Digiteurs Bourse de commerce\, 2 rue de Viarmes\, PARIS \, 75001\, France
CATEGORIES:Formation crowdfunding
END:VEVENT
BEGIN:VEVENT
DTSTART;TZID=Europe/Paris:20161109T180000
DTEND;TZID=Europe/Paris:20161109T200000
DTSTAMP:20260420T032023
CREATED:20161028T143921Z
LAST-MODIFIED:20161028T143921Z
UID:5658-1478714400-1478721600@financeparticipative.org
SUMMARY:La finance verte est-elle solidaire ?
DESCRIPTION:Soirée Table-ronde\, pitch & cocktail « La finance verte est-elle solidaire ? » \n\nco-organisée par Énergie Partagée\, Finansol et 1001PACT. \nCet événement s’inscrit dans l’Agenda à l’échelle nationale de la Semaine de la Finance Solidaire. \n \n  \n[INFORMATIONS ET INSCRIPTIONS ICI]
URL:https://financeparticipative.org/calendrier-de-la-finance-participative/la-finance-verte-est-elle-solidaire/
LOCATION:Maison des Acteurs du Paris Durable\, 21 Rue des Blancs Manteaux\, Paris\, 75004 
CATEGORIES:Evénements,Financement Collaboratif
END:VEVENT
BEGIN:VEVENT
DTSTART;TZID=Europe/Paris:20161104T083000
DTEND;TZID=Europe/Paris:20161104T210000
DTSTAMP:20260420T032023
CREATED:20161019T162918Z
LAST-MODIFIED:20161024T132857Z
UID:5502-1478248200-1478293200@financeparticipative.org
SUMMARY:3ème RENCONTRE EUROMÉDITERRANÉENNE DU CROWDFUNDING
DESCRIPTION:Journée prospective autour de l’émergence des nouvelles formes de l’économie\, de la finance et du collaboratif à travers le Numérique. Espace de réflexion et d’échange entre les différents acteurs potentiels du développement du crowdfunding ouvert à tout public. Les 3èmes rencontres vont chercher à comprendre les limites démocratiques de l’innovation technique dans la finance alternative. Cette année la thématique de la Blockchain sera intégrée à ces réflexions.\nPROGRAMME \n9h30 – 12h30 ATELIERS\n– ATELIER FORUM : Crowdfunding et intelligence collective : comment mobiliser au-delà de sa communauté ?\n– ATELIER FORUM : Rencontres du public et des porteurs de projets avec les plateformes partenaires & Projets        pédagogiques à effets de levier local\n– ATELIER TRAVAIL : Point législation crowdfunding\n– ATELIER TRAVAIL : Le Crowdfunding de Niche : Le cas de l’immobilier \n14h00 – 18h30 TABLES RONDES & CONFÉRENCES\n– Cérémonie d’ouverture\, tour d’horizon et enjeux du Crowdfunding\n– Le financement participatif démocratique ou technique ?\n– La Blockchain : La banque du futur c’est vous! \n19h30 – 22h00 SPEECHS : FINANCE-FICTION\n– Finance-Fiction : Conférences courtes imaginatives et inspirantes !\n– Clôture \nInscriptions : https://www.semaine-eco-med.com/inscription/
URL:https://financeparticipative.org/calendrier-de-la-finance-participative/3emes-rencontres-euromediterraneennes-du-crowdfunding/
LOCATION:Villa Méditerranée\, Esplanade du J4\, Marseille\, 13002 \, France
CATEGORIES:Actu crowdfunding,Financement Collaboratif
END:VEVENT
BEGIN:VEVENT
DTSTART;TZID=Europe/Paris:20161004T131500
DTEND;TZID=Europe/Paris:20161004T141500
DTSTAMP:20260420T032023
CREATED:20160922T160746Z
LAST-MODIFIED:20160929T075622Z
UID:5338-1475586900-1475590500@financeparticipative.org
SUMMARY:LES RENDEZ-VOUS DE L’ENTREPRENEURIAT D'ORLY Paris®
DESCRIPTION:
URL:https://financeparticipative.org/calendrier-de-la-finance-participative/les-rendez-vous-de-lentrepreneuriat-dorly-paris/
LOCATION:Aérogare Orly Sud-Porte C\, 4e étage\, ORLY AEROGARE BP 232 94543  Cedex\, Orly\, 95543\, France
CATEGORIES:Actu crowdfunding
ORGANIZER;CN="ORLY INTERNATIONAL":MAILTO:ghenry@orly-international.com  
END:VEVENT
BEGIN:VEVENT
DTSTART;TZID=Europe/Paris:20160920T184500
DTEND;TZID=Europe/Paris:20160920T213000
DTSTAMP:20260420T032023
CREATED:20160818T132947Z
LAST-MODIFIED:20160819T162531Z
UID:5226-1474397100-1474407000@financeparticipative.org
SUMMARY:CROWDTUESDAY : le crowdfunding en obligations
DESCRIPTION:
URL:https://financeparticipative.org/calendrier-de-la-finance-participative/crowdtuesday-le-crowdfunding-en-obligations/
CATEGORIES:CrowdTuesday,Actu crowdfunding,Evénements
ATTACH;FMTTYPE=image/png:https://financeparticipative.org/wp-content/uploads/2016/05/CrowdTuesday__logodesign-yellow-final-e1501660748920.png
END:VEVENT
BEGIN:VEVENT
DTSTART;VALUE=DATE:20160706
DTEND;VALUE=DATE:20160707
DTSTAMP:20260420T032023
CREATED:20160525T095418Z
LAST-MODIFIED:20160525T095418Z
UID:4904-1467763200-1467849599@financeparticipative.org
SUMMARY:Etape la Manche du Tour de France de la finance participative
DESCRIPTION:Le Tour de France de la finance participative fera étape à Saint-Lô\, en partenariat avec  CCI Ouest Normandie et le conseil départemental de la Manche.
URL:https://financeparticipative.org/calendrier-de-la-finance-participative/etape-la-manche-du-tour-de-france-de-la-finance-participative/
LOCATION:Campus universitaire de saint-Lô\, 120 rue de l'Exode\, Saint-Lô\, La Manche\, 50000\, France
CATEGORIES:Tour de France de la Finance Participative
END:VEVENT
BEGIN:VEVENT
DTSTART;VALUE=DATE:20160630
DTEND;VALUE=DATE:20160701
DTSTAMP:20260420T032023
CREATED:20160512T092943Z
LAST-MODIFIED:20160512T092943Z
UID:4863-1467244800-1467331199@financeparticipative.org
SUMMARY:Etape Toulousaine du Tour de France de la finance participative
DESCRIPTION:Le Tour de France de la finance participative fera étape à Toulouse\, en partenariat avec la CCI de Toulouse et la CCI Midi-Pyrénée.
URL:https://financeparticipative.org/calendrier-de-la-finance-participative/etape-toulousaine-du-tour-de-france-de-la-finance-participative/
CATEGORIES:Tour de France de la Finance Participative
END:VEVENT
BEGIN:VEVENT
DTSTART;VALUE=DATE:20160627
DTEND;VALUE=DATE:20160628
DTSTAMP:20260420T032023
CREATED:20160518T122102Z
LAST-MODIFIED:20160620T154912Z
UID:4884-1466985600-1467071999@financeparticipative.org
SUMMARY:Finance participative et Territoires
DESCRIPTION:Pré-programme de la manifestation:\n\n8h30 – Accueil\n \n9h00 – Mot de bienvenue\nPhilippe Adnot*\, Sénateur de l’Aube \n9h15 – Introduction : La finance participative : de quoi parle-t-on ?\nNicolas Lesur\, Président de Financement Participatif France \n9h25 – Témoignage de proteur de projet\nSabine Hillenmeyer\, Pour le Fonds de dotation pour le rayonnement de St Germain des Prés \n9h30 – Mise en perspective : Le participatif\, feu de paille ou mouvement de fond ? Quelles implications pour les personnes et les organisations ? Quelles conséquences sur le développement des territoires ?\nModérateur : André Jaunay\, Vice-président de Financement Participatif France\nBernard Pecqueur\, Economiste spécialiste du développement local\nGilles Babinet\, Multi-entrepreneur\, « Digital champion » auprès de la Commission européenne\nLéa Marzloff\, Directrice Adjointe du groupe Chronos \n10h15 – Témoignage de proteur de projet\nLa Boucherie du Village  \n 10h20 – Les partenariats territoriaux : cartographie des pratiques existantes\nFlorence de Maupeou\, Coordinatrice générale de Financement Participatif France\nAlex Raguet\, Président de European Crowdfunding Network \n10h45 – Pause \n11h00 – La finance participative et les épargnants : Quelle approche à leur égard ? Faut-il les former\, les orienter ?\nModérateur : Benoit Granger\, Administrateur de Financement Participatif France\nTanguy de la Fouchardière\, Président France Angels\nFrançois Debiesse\, Président de l’ADMICAL\nMaxime Chipoy\, Direction des relations avec les épargnants à l’Autorité des marchés financiers\nNicolas Layous Crédit Agricole Pyrénées Gascogne – Financement participatif observatoire et partenariats \n12h00 – Déjeuner participatif (chacun apporte quelque chose à partager : spécialité locale\, etc.)\n \n11h45 – Intervention d’Axelle Lemaire\, secrétaire d’Etat chargée du Numérique\, auprès du ministre de l’Economie\, de l’Industrie et du Numérique (sous réserve) \n13h45 – Ce que ces dynamiques ouvrent comme perspectives : Quel rôle pour les institutions territoriales ?\nModérateur : André Jaunay\, Vice-président de Financement Participatif France\nPascal Coste\, Président du département de la Corrèze\nCédric Szabo\, Directeur de l’Association des Maires Ruraux de France\nClaire Charbit\, Responsable du dialogue avec autorités locales et régionales à l’OCDE \n 14h40 – Témoignage de porteur de projet\nFranck Azoulay\, Directeur Marketing d’ImXPAD \n 14h45 – Point de vue des têtes de réseaux de l’entrepreneuriat et du développement territorial : Quels retours des réseaux de soutien à l’entrepreneuriat et au développement territorial sur leurs expériences du crowdfunding ?\nModérateur : Boris Perrin\, Chargé de mission ARADEL\nSandrine Wehrli\, Directrice Générale déléguée de CCI France\nMatthieu Barrier Directeur adjoint du réseau de l’Adie\nBernadette Sozet\, Déléguée Générale\, Initiative France\nDenis Dementhon*\, Directeur de France Active\nSophie Jalabert\, Déléguée générale de BGE \n15h40 – Témoignage de porteur de projet\nFaites rouler le 1er Ice Truck Fermier \n15h45 – Pause \n16h00 – Les appuis disponibles pour les territoires : Quels dispositifs d’appui nationaux aux projets et animations mis en œuvre dans les territoires ?\nModérateur : Benoit Leguet\, Directeur général I4CE\nSandra Bertrand\, Administratrice de Financement Participatif France\nJérémy Lepolard\, Responsable innovation et développement à la Caisse des dépôts\nPascale Chudzinski\, Responsable de la promotion territoriale à la Direction Partenariats régionaux et Action territoriale de Bpifrance\nPierre Préjean\, Président du comité Développement et Financement du Conseil Supérieur de l’Ordre des experts comptables \n16h55 –Témoignage de Porteur de projet\nUne toiture solaire à Iteuil \n17h00– Le crowdfunding pour le Financement des projets de collectivités\nSandra Prédine-Ballerie\, Directrice de la culture du département de l’Oise\nPhilippe Rogier\, Directeur crédits et engagements à l’Agence France Locale \n17h45 – Conclusion \n  \n  \nInformations utiles:\nTarif: 16€ TTC\nDéjeuner participatif : vous êtes invité à garnir le buffet. N’hésitez pas à apporter une spécialité de votre région à partager.\nInscriptions : www.weezevent.com/finance-participative-et-territoires – Pensez à vous munir d’une pièce d’identité pour accéder au Sénat le 27 juin. \n 
URL:https://financeparticipative.org/calendrier-de-la-finance-participative/finance-participative-et-territoires/
ATTACH;FMTTYPE=image/png:https://financeparticipative.org/wp-content/uploads/2016/05/FP-et-territoires-logo-2-e1495820196117.png
END:VEVENT
BEGIN:VEVENT
DTSTART;VALUE=DATE:20160607
DTEND;VALUE=DATE:20160608
DTSTAMP:20260420T032023
CREATED:20160512T095058Z
LAST-MODIFIED:20161124T195257Z
UID:4869-1465257600-1465343999@financeparticipative.org
SUMMARY:CrowdTuesday
DESCRIPTION:Financement Participatif France et le Pôle Finnance Innovation se joignent à l’ECN pour co-organiser l’événement du CrowdTuesday au Palais Brongniart.
URL:https://financeparticipative.org/calendrier-de-la-finance-participative/crowdtuesday-7/
LOCATION:Palais Brongniart\, 28 Place de la Bourse\, Paris\, 75002
CATEGORIES:CrowdTuesday
END:VEVENT
END:VCALENDAR