BEGIN:VCALENDAR
VERSION:2.0
PRODID:-//FPF Financement Participatif France - financeparticipatif.org - ECPv6.15.5//NONSGML v1.0//EN
CALSCALE:GREGORIAN
METHOD:PUBLISH
X-WR-CALNAME:FPF Financement Participatif France - financeparticipatif.org
X-ORIGINAL-URL:https://financeparticipative.org
X-WR-CALDESC:Évènements pour FPF Financement Participatif France - financeparticipatif.org
REFRESH-INTERVAL;VALUE=DURATION:PT1H
X-Robots-Tag:noindex
X-PUBLISHED-TTL:PT1H
BEGIN:VTIMEZONE
TZID:Europe/Paris
BEGIN:DAYLIGHT
TZOFFSETFROM:+0100
TZOFFSETTO:+0200
TZNAME:CEST
DTSTART:20190331T010000
END:DAYLIGHT
BEGIN:STANDARD
TZOFFSETFROM:+0200
TZOFFSETTO:+0100
TZNAME:CET
DTSTART:20191027T010000
END:STANDARD
END:VTIMEZONE
BEGIN:VEVENT
DTSTART;VALUE=DATE:20190318
DTEND;VALUE=DATE:20190321
DTSTAMP:20260420T122109
CREATED:20190203T154606Z
LAST-MODIFIED:20190218T120228Z
UID:8149-1552950000-1553122799@financeparticipative.org
SUMMARY:Normandy Fintech
DESCRIPTION:FINANCEMENT PARTICIPATIF FRANCE VOUS DONNE RENDEZ-VOUS LES 19 & 20 MARS AU NORMANDY FINTECH A CAEN !\nStartups\, innovateurs\, disrupteurs\, experts\, clients\, tous les acteurs de l’écosystème financier et technologique seront réunis en un même lieu pendant 2 jours\, les 19 et 20 mars au Dôme à Caen\, pour la première édition de Normandy Fintech ! \nAvec au programme des ateliers thématiques (cryptomonnaie\, blockchain\, sécurité\, droit\, opportunités croisées avec le Royaume-Uni\, …)\, des tables rondes\, un concours de pitch et l’étape normande du Tour de France FinTech. \nSoutenue par l’association Financement Participatif France\, France FinTech\, les Chambres de Commerces et d’Industrie ainsi que la Préfecture de Normandie\, les entreprises influentes et les startup émergentes de l’écosystème  sont invitées à découvrir les offres de partenariat de la première édition de Normandy FinTech. \nOrganisée par la CCI Caen Normandie\, avec l’appui de Montaigne Conseil et en partenariat avec Bordeaux FinTech\, l’événement offre à votre entreprise une belle visibilité aux côtés des experts de la FinTech. \n  \nTOUTE L’INFORMATION SUR https://www.normandyfintech.com/
URL:https://financeparticipative.org/calendrier-de-la-finance-participative/normandy-fintech/
LOCATION:Dôme\, 3 Esplanade Stéphane Hessel\, Caen\, 14000
CATEGORIES:Actu crowdfunding,Evénements
ATTACH;FMTTYPE=image/jpeg:https://financeparticipative.org/wp-content/uploads/2019/02/FinTech-CaenNormandie-e1549205263686.jpg
END:VEVENT
END:VCALENDAR