BEGIN:VCALENDAR
VERSION:2.0
PRODID:-//FPF Financement Participatif France - financeparticipatif.org - ECPv6.15.5//NONSGML v1.0//EN
CALSCALE:GREGORIAN
METHOD:PUBLISH
X-ORIGINAL-URL:https://financeparticipative.org
X-WR-CALDESC:Évènements pour FPF Financement Participatif France - financeparticipatif.org
REFRESH-INTERVAL;VALUE=DURATION:PT1H
X-Robots-Tag:noindex
X-PUBLISHED-TTL:PT1H
BEGIN:VTIMEZONE
TZID:Europe/Paris
BEGIN:DAYLIGHT
TZOFFSETFROM:+0100
TZOFFSETTO:+0200
TZNAME:CEST
DTSTART:20180325T010000
END:DAYLIGHT
BEGIN:STANDARD
TZOFFSETFROM:+0200
TZOFFSETTO:+0100
TZNAME:CET
DTSTART:20181028T010000
END:STANDARD
END:VTIMEZONE
BEGIN:VEVENT
DTSTART;TZID=Europe/Paris:20180627T083000
DTEND;TZID=Europe/Paris:20180627T140000
DTSTAMP:20260421T020204
CREATED:20180618T082748Z
LAST-MODIFIED:20180618T082812Z
UID:7667-1530088200-1530108000@financeparticipative.org
SUMMARY:Fin&Tech Community - pôle FINANCE INNOVATION
DESCRIPTION:Jean-Hervé LORENZI\, Président du Pôle de compétitivité mondial\n FINANCE INNOVATION\n et Joëlle DURIEUX\, Directrice générale\n vous invitent à la 7ème édition de FIN&TECH COMMUNITY \n  \nProgramme :  \n08h30-08h55 – Accueil Café\n09h00-09h30 – Introduction\n09h30-10h00 – Table Ronde « Impact des nouvelles technologies sur l’industrie financière » \n10h00-10h10 –  Keynote (thématique à définir)\n10h10-10h40 – Table Ronde « GDPR un mois après : qu’est-ce qu’il s’est réellement passé ? »\n10h40-10h50 – Keynote « le digital\, une source d’innovation dans la distribution de produits financiers » \n10h50-11h20 – Table Ronde « L’usage : moteur de la disruption du secteur bancaire ? » \n11h20-11h30 – Keynote « Le Collaborateur augmenté » \n11h30-12h00 – Table Ronde « Pour une intelligence artificielle éthique dès sa conception » \n12h00-12h10 – Keynote Fédération Bancaire Française \n12h10-12h40 – Table Ronde «Fintech & démocratisation des services bancaires : comment la technologie facilite l’accès au monde de la finance» \n12h40-12h50 –  Keynote BPSIS \n12h50-13h20 – Table Ronde « Finance Innovation : Hub Européen et International » \n13h20-13h30 – Conclusion « L’attractivité de la France pour le développement du secteur Fintech » \n13h30 – Cocktail & Tombola
URL:https://financeparticipative.org/calendrier-de-la-finance-participative/fintech-community-pole-finance-innovation/
CATEGORIES:Evénements
ATTACH;FMTTYPE=image/png:https://financeparticipative.org/wp-content/uploads/2018/06/Fintech-community-e1529310363464.png
END:VEVENT
END:VCALENDAR