BEGIN:VCALENDAR
VERSION:2.0
PRODID:-//FPF Financement Participatif France - financeparticipatif.org - ECPv6.15.5//NONSGML v1.0//EN
CALSCALE:GREGORIAN
METHOD:PUBLISH
X-ORIGINAL-URL:https://financeparticipative.org
X-WR-CALDESC:Évènements pour FPF Financement Participatif France - financeparticipatif.org
REFRESH-INTERVAL;VALUE=DURATION:PT1H
X-Robots-Tag:noindex
X-PUBLISHED-TTL:PT1H
BEGIN:VTIMEZONE
TZID:Europe/Paris
BEGIN:DAYLIGHT
TZOFFSETFROM:+0100
TZOFFSETTO:+0200
TZNAME:CEST
DTSTART:20180325T010000
END:DAYLIGHT
BEGIN:STANDARD
TZOFFSETFROM:+0200
TZOFFSETTO:+0100
TZNAME:CET
DTSTART:20181028T010000
END:STANDARD
END:VTIMEZONE
BEGIN:VEVENT
DTSTART;VALUE=DATE:20181010
DTEND;VALUE=DATE:20181012
DTSTAMP:20260420T211453
CREATED:20180817T091359Z
LAST-MODIFIED:20180817T091624Z
UID:7796-1539129600-1539302399@financeparticipative.org
SUMMARY:Bordeaux FinTech
DESCRIPTION:Bordeaux FinTech revient pour une quatrième édition les 10 & 11 Octobre prochains avec plein de nouveautés : le lieu change\, l’organisation se professionnalise\, les intervenants s’internationalisent…\nPour sa 4ème édition\, Bordeaux FinTech2018 accueillera les 10 et 11 octobre 2018 des personnalités de tout premier plan pour des échanges d’idées fortes dans un nouveau lieu: La Cité du Vin !\nFinancement Participatif France soutient le Bordeaux FinTech organisé par la société de conseil patrimonial Montaigne Conseil\, et permet à ses membres de bénéficier d’une réduction sur le prix du billet. \nInformation et inscription sur https://bxfintech.com/
URL:https://financeparticipative.org/calendrier-de-la-finance-participative/bordeaux-fintech-2/
CATEGORIES:Evénements
ATTACH;FMTTYPE=image/png:https://financeparticipative.org/wp-content/uploads/2018/08/FPF-Bordeaux-FinTech-Twitter-e1534496988685.png
END:VEVENT
END:VCALENDAR